BEGIN:VCALENDAR
PRODID:NingEventWidget-v1
VERSION:2.0
METHOD:PUBLISH
BEGIN:VEVENT
UID:1791588:Event:167915
DTSTAMP:20260420T115619Z
SUMMARY:MRI Comprehensive Overview
DESCRIPTION:Course Topics\n\nPatient Care and Safety\nPhysical Princip
 les of Imaging Information\nFundamentals\nSpatial Localization\nArtifa
 cts\nImaging Procedures Part 1\nTissue Characteristics and Contrast In
 dications\nImaging Procedures Part 2\nData Acquisition\nData Manipulat
 ion\nSequence Parameters and Options\nSequence Parameters Protocol Sel
 ection\n\n\nFor more information visit https://community.radrounds.com
 /events/mri-comprehensive-overview-1
DTSTART:20160716T130000Z
DTEND:20160717T203000Z
CATEGORIES:simulcast
LOCATION:Houston
WEBSITE:https://store.aheconline.com/index.php?route=product/product&p
 ath=59_167_192&product_id=2590
URL:https://store.aheconline.com/index.php?route=product/product&path=
 59_167_192&product_id=2590
CONTACT:18002391361
ORGANIZER;CN="Larry Carney":https://community.radrounds.com/profile/La
 rryCarney
ATTACH;FMTTYPE="image/jpeg":
ATTENDEE;ROLE=REQ-PARTICIPANT;PARTSTAT=ACCEPTED;RSVP=TRUE;CN="Larry Ca
 rney":https://community.radrounds.com/profile/LarryCarney
END:VEVENT
END:VCALENDAR
