BEGIN:VCALENDAR
PRODID:NingEventWidget-v1
VERSION:2.0
METHOD:PUBLISH
BEGIN:VEVENT
UID:1791588:Event:158726
DTSTAMP:20260421T212809Z
SUMMARY:MRI Clinical Week 2
DESCRIPTION: Modality Information MRI, CT, CV Clinical Fellowship 40 h
 ours of clinical rotations (Monday-Friday) each week will give the tec
 hnologist the opportunity to experience a wide array of exams, be tuto
 red by experienced advanced modality professionals who provide insight
 s, advice, and help you get the most out of your training. Also, clini
 cal fellowships will allow technologists the opportunity to accrue som
 e of their clinical experience (competencies) for preparation for adva
 nced modality examinations.\nClinical rotations are based on a per wee
 k registration by the technologist. It is strongly recommended attenda
 nce in clinical rotations be for the full weeks offered. Register earl
 y; there is a limited number of clinical sites available. It will enha
 nce clinical experience if technologists communicate their goals relat
 ed to clinical training to the fellowship coordinator. If you have spe
 cific requests regarding equipment preference and/or software, please 
 contact the AHEC clinical fellowship coordinator related to these moda
 lities.  Magnetic Resonance Imaging Fellowship Clinical: (1-3 week opt
 ion)\nTechnologists are placed with an emphasis on providing experienc
 e on a magnet when available, with the field strength and manufacturer
  requested when possible. MRI fellowship clinical will provide 40-120 
 hours of MRI training.\nClinical Fellowship Requirements\nClinical fel
 lowship requires enrolled technologists to meet hospital and imaging c
 enter requirements as required by affiliation agreements and education
  departments. The following information must be submitted to obtain a 
 clinical site rotation assignment. Fellowship coordinators will contac
 t enrolled technologists in advance of clinical rotations to secure ap
 propriate documentation. Reliable email and/or telephone contact Infor
 mation must be provided at time of registration for the class. Failure
  to provide correct information will result in delay or failure of cli
 nical placement. Required information must be provided a minimum of th
 ree weeks prior to the first day of the theory class.\nMinimum Clinica
 l requirements Include:\n\nA copy of current credentials and state lic
 ensure (if applicable)\nSigned letter of good health on physician's le
 tterhead\nCurrent immunizations to include: Tuberculosis (documentatio
 n of negative PPD or negative CXR report within the last 12 months, He
 patitis B series (documentation of completed series and/or positive ti
 ter, or deferral), Tetanus within the last 10 years, Varicella (chicke
 n pox)-(immunization, positive history by MD letter, positive titer), 
 MMR date or titer date, current influenza vaccination\nUrine drug scre
 en\nCopy of current CPR card (front and back)\nA signed background rel
 ease form with a copy of current driver’s license to include expirat
 ion date, social security number and date of birth. The release form w
 ill be emailed to you when you register for class.\nEmployment verific
 ations\nLast two employers: name of employer, contact name, contact ph
 one number\n\n*Course attendees must submit all required paperwork to 
 AHEC by mail, fax, or hand delivery no later than 3 weeks prior to the
  start of the course.\nFax: 713-772-0155\nMailing Address: 8502 Tybor 
 Drive, Houston, Texas 77074\n\nFor more information visit https://comm
 unity.radrounds.com/events/mri-clinical-week-2-2
DTSTART:20151109T050000Z
DTEND:20151114T045900Z
CATEGORIES:seminar
LOCATION:AHEC
WEBSITE:https://store.aheconline.com/index.php?route=product/product&f
 ilter_name=MRI%20CLINICAL%20WEEK%202&product_id=1609
URL:https://store.aheconline.com/index.php?route=product/product&filte
 r_name=MRI%20CLINICAL%20WEEK%202&product_id=1609
CONTACT:713-772-0157
ORGANIZER;CN="Larry Carney":https://community.radrounds.com/profile/La
 rryCarney
ATTACH;FMTTYPE="image/jpeg":
ATTENDEE;ROLE=REQ-PARTICIPANT;PARTSTAT=ACCEPTED;RSVP=TRUE;CN="Larry Ca
 rney":https://community.radrounds.com/profile/LarryCarney
END:VEVENT
END:VCALENDAR
