BEGIN:VCALENDAR
PRODID:NingEventWidget-v1
VERSION:2.0
METHOD:PUBLISH
BEGIN:VEVENT
UID:1791588:Event:189252
DTSTAMP:20260419T141814Z
SUMMARY:Molecular Breast Imaging and Breast MRI (Live Webinar)
DESCRIPTION:\nCourse Objectives:\nAt the conclusion of the course the 
 participant should be able to:\n\nDefine molecular breast imaging.\nDi
 scuss the protocol criteria for molecular breast imaging\nIdentify cor
 relations between different imaging modalities radiographically\nDiscu
 ss the protocol criteria for MRI\n Identify correlations between mamm
 ography and MRI\nUnderstand breast MRI protocols\n\nCourse Topics:\nMo
 lecular Breast Imaging\n\nWhat is Molecular Breast Imaging?\nProtocols
  for MBI\nCorrelation of MBI with Other Modalities\n\nMRI of the Breas
 t Using Mammmography Correlation \n\nBreast Protocols in MRI\nMammogr
 aphy Imaging Correlation\nImage Quiz\n\n\nFor more information visit h
 ttps://community.radrounds.com/events/molecular-breast-imaging-and-bre
 ast-mri-live-webinar-6
DTSTART:20190424T220000Z
DTEND:20190425T000000Z
CATEGORIES:live, webinar
LOCATION:Advanced Health Education Center
WEBSITE:https://store.aheconline.com/
URL:https://store.aheconline.com/
CONTACT:1(800) 239-1361
ORGANIZER:AHEC
ATTACH;FMTTYPE="image/jpeg":
ATTENDEE;ROLE=REQ-PARTICIPANT;PARTSTAT=ACCEPTED;RSVP=TRUE;CN="Larry Ca
 rney":https://community.radrounds.com/profile/LarryCarney
END:VEVENT
END:VCALENDAR
