BEGIN:VCALENDAR
PRODID:NingEventWidget-v1
VERSION:2.0
METHOD:PUBLISH
BEGIN:VEVENT
UID:1791588:Event:182865
DTSTAMP:20260424T190652Z
SUMMARY:Molecular Breast Imaging and Breast MRI (Live Webinar)
DESCRIPTION:Course Objectives:\nAt the conclusion of the course the pa
 rticipant should be able to:\n1.      Define molecular breast imagi
 ng.\n2.      Discuss the protocol criteria for molecular breast i
 maging\n3.      Identify correlations between different imaging m
 odalities radiographically\n4.      Discuss the protocol criteria
  for MRI\n5.      Identify correlations between mammography and M
 RI\n6.      Understand breast MRI protocols\n\nFor more informati
 on visit https://community.radrounds.com/events/molecular-breast-imagi
 ng-and-breast-mri-live-webinar-2
DTSTART:20180726T220000Z
DTEND:20180727T010000Z
CATEGORIES:live, webinar
LOCATION:Advanced Health Education Center
WEBSITE:https://store.aheconline.com/
URL:https://store.aheconline.com/
CONTACT:7137720157
ORGANIZER;CN="Larry Carney":https://community.radrounds.com/profile/La
 rryCarney
ATTACH;FMTTYPE="image/jpeg":
ATTENDEE;ROLE=REQ-PARTICIPANT;PARTSTAT=ACCEPTED;RSVP=TRUE;CN="Larry Ca
 rney":https://community.radrounds.com/profile/LarryCarney
END:VEVENT
END:VCALENDAR
