BEGIN:VCALENDAR
PRODID:NingEventWidget-v1
VERSION:2.0
METHOD:PUBLISH
BEGIN:VEVENT
UID:1791588:Event:183029
DTSTAMP:20260423T170733Z
SUMMARY:Molecular Breast Imaging and Breast MRI (Live Webinar)
DESCRIPTION:Course Topics:\nMolecular Breast Imaging\n\nWhat is Molecu
 lar Breast Imaging?\nProtocols for MBI\nCorrelation of MBI with Other 
 Modalities\n\nMRI of the Breast Using Mammmography Correlation \n\nBr
 east Protocols in MRI\nMammography Imaging Correlation\nImage Quiz\n\n
 \nFor more information visit https://community.radrounds.com/events/mo
 lecular-breast-imaging-and-breast-mri-live-webinar-1
DTSTART:20180717T140000Z
DTEND:20180717T160000Z
CATEGORIES:live, webinar
LOCATION:Advanced Health Education Center
WEBSITE:https://store.aheconline.com/
URL:https://store.aheconline.com/
CONTACT:7137720157
ORGANIZER;CN="Larry Carney":https://community.radrounds.com/profile/La
 rryCarney
ATTACH;FMTTYPE="image/jpeg":
ATTENDEE;ROLE=REQ-PARTICIPANT;PARTSTAT=ACCEPTED;RSVP=TRUE;CN="Larry Ca
 rney":https://community.radrounds.com/profile/LarryCarney
END:VEVENT
END:VCALENDAR
