BEGIN:VCALENDAR
PRODID:NingEventWidget-v1
VERSION:2.0
METHOD:PUBLISH
BEGIN:VEVENT
UID:1791588:Event:174904
DTSTAMP:20260420T035220Z
SUMMARY:Miami Neuro Symposium, Sixth Annual
DESCRIPTION:This symposium will focus on recent advances in neuro-onco
 logy, stroke management, neurocritical care and neuro-imaging. The exp
 ert faculty will engage participants through complex cases, novel trea
 tment strategies and lively panel discussions.\n\n\nFor more informati
 on visit https://community.radrounds.com/events/miami-neuro-symposium-
 sixth-annual
DTSTART:20171202T121500Z
DTEND:20171202T180000Z
CATEGORIES:continuing, medical, education, symposium
LOCATION:Biltmore Hotel
WEBSITE:http://MiamiNeuro.BaptistHealth.net
URL:http://MiamiNeuro.BaptistHealth.net
CONTACT:786-596-2398
ORGANIZER:Baptist Health South Florida CME Department
ATTACH;FMTTYPE="image/jpeg":
ATTENDEE;ROLE=REQ-PARTICIPANT;PARTSTAT=ACCEPTED;RSVP=TRUE;CN="Julie Zi
 mmett":https://community.radrounds.com/profile/JulieZimmett
END:VEVENT
END:VCALENDAR
