BEGIN:VCALENDAR
PRODID:NingEventWidget-v1
VERSION:2.0
METHOD:PUBLISH
BEGIN:VEVENT
UID:1791588:Event:174707
DTSTAMP:20260420T020959Z
SUMMARY:Miami Brain Symposium, Inagural
DESCRIPTION:State-of-the-art neuro-oncology imaging and management is 
 the focus of the inaugural Miami Brain Symposium. Expert faculty will 
 engage participants through complex cases, novel treatment strategies 
 and lively panel discussions during this one-day symposium.\n\n\nFor m
 ore information visit https://community.radrounds.com/events/miami-bra
 in-symposium-inagural
DTSTART:20171201T050000Z
DTEND:20171202T045900Z
CATEGORIES:continuing, medical, education, symposium
LOCATION:Biltmore Hotel
WEBSITE:http://MiamiBrainSymposium.BaptistHealth.net
URL:http://MiamiBrainSymposium.BaptistHealth.net
CONTACT:786-596-2398
ORGANIZER:Baptist Health South Florida CME Department
ATTACH;FMTTYPE="image/jpeg":
ATTENDEE;ROLE=REQ-PARTICIPANT;PARTSTAT=ACCEPTED;RSVP=TRUE;CN="Julie Zi
 mmett":https://community.radrounds.com/profile/JulieZimmett
END:VEVENT
END:VCALENDAR
