BEGIN:VCALENDAR
PRODID:NingEventWidget-v1
VERSION:2.0
METHOD:PUBLISH
BEGIN:VEVENT
UID:1791588:Event:115583
DTSTAMP:20260425T101757Z
SUMMARY:Medical Spanish for the Healthcare Professional
DESCRIPTION:Medical Spanish for the Healthcare Professional Monday, Ja
 nuary 16, 2012 - Friday, January 20, 2012Hilton Papagayo Costa Rica Re
 sort and Spa Guanacaste, Costa RicaProvided by Medical Studies Abroad 
  CME Provider: Medical Studies Abroad Cindy Nelson8004 Danforth CoveAu
 stin, Texas (TX) 78746United States\nPhone: 512-328-6431Fax: 512-328-6
 431\n\nConference Center:Hilton Papagayo Costa Rica Resort and Spa Pla
 ya ArenillaGolfo de PapagayoGuanacaste, Costa Rica\nPhone: 506-2-672-0
 000Fax: 506-2-672-0133\nDescription:This continuing medical education 
 conference is intended for medical professionals who desire to learn S
 panish. The emphasis is on medical terminology and on communicating mo
 re effectively with patients. The courses in Costa Rica will take plac
 e in an immersion setting with many opportunities to practice with nat
 ive Spanish speakers.\nSelf Assessment Module (SAM): No\nInstructors:S
 andra Chacon-EsquivelMarianita Davindas, JDRoxana Rojas\nSpecialty Aud
 ience:Allergy / ImmunologyAnesthesiologyDermatologyEmergency MedicineF
 amily MedicineGeneticsInternal MedicineNeurologyObstetrics / Gynecolog
 yOphthalmologyOtolaryngologyPathologyPediatricsPreventative MedicinePs
 ychiatryRadiologySurgery\n\nFor more information visit https://communi
 ty.radrounds.com/events/medical-spanish-for-the-healthcare-professiona
 l
DTSTART:20120116T050000Z
DTEND:20120121T045900Z
CATEGORIES:medical, education, conference
LOCATION:Hilton Papagayo Costa Rica Resort and Spa  Playa Arenilla
WEBSITE:http://www1.hilton.com/en_US/hi/hotel/SJOPAHH-Hilton-Papagayo-
 Costa-Rica-Resort-Spa/index.do
URL:http://www1.hilton.com/en_US/hi/hotel/SJOPAHH-Hilton-Papagayo-Cost
 a-Rica-Resort-Spa/index.do
CONTACT:506-2-672-0000
ORGANIZER:Medical Studies Abroad
ATTACH;FMTTYPE="image/jpeg":
ATTENDEE;ROLE=REQ-PARTICIPANT;PARTSTAT=ACCEPTED;RSVP=TRUE;CN="radRound
 s Radiology Events":https://community.radrounds.com/profile/radRoundsR
 adiologyEvents
END:VEVENT
END:VCALENDAR
