BEGIN:VCALENDAR
PRODID:NingEventWidget-v1
VERSION:2.0
METHOD:PUBLISH
BEGIN:VEVENT
UID:1791588:Event:115829
DTSTAMP:20260424T200429Z
SUMMARY:Medical Spanish for the Healthcare Professional
DESCRIPTION:Medical Spanish for the Healthcare Professional Sunday, Fe
 bruary 12, 2012 - Thursday, February 16, 2012Crocodile Bay Resort Puer
 to Jimenez, Costa RicaProvided by Medical Studies Abroad  CME Provider
 : Medical Studies Abroad Cindy Nelson8004 Danforth CoveAustin, Texas (
 TX) 78746United States\nPhone: 512-328-6431\n\nConference Center:Croco
 dile Bay Resort Osa PeninsulaPuerto Jimenez, Costa Rica\nToll Free: 1.
 800.733.1115Phone: (707) 559 - 7990\n Description:This continuing medi
 cal education conference is intended for medical professionals who des
 ire to learn Spanish. The emphasis is on medical terminology and on co
 mmunicating more effectively with patients. The courses in Costa Rica 
 will take place in an immersion setting with ample opportunities to pr
 actice with native Spanish speakers.\nSelf Assessment Module (SAM): No
 \nInstructors:Sandra Chacon-EsquivelMarianita Davindas, JDRoxana Rojas
 \nSpecialty Audience:Allergy / ImmunologyAnesthesiologyDermatologyEmer
 gency MedicineFamily MedicineGeneticsInternal MedicineNeurologyObstetr
 ics / GynecologyOphthalmologyPathologyPediatricsPreventative MedicineP
 sychiatryRadiologySurgery\n\nFor more information visit https://commun
 ity.radrounds.com/events/medical-spanish-for-the-healthcare-profession
 al-1
DTSTART:20120212T050000Z
DTEND:20120218T045900Z
CATEGORIES:radiology
LOCATION:Crocodile Bay Resort
WEBSITE:http://www.crocodilebay.com/
URL:http://www.crocodilebay.com/
CONTACT:(707) 559 - 7990
ORGANIZER:Medical Studies Abroad
ATTACH;FMTTYPE="image/jpeg":
ATTENDEE;ROLE=REQ-PARTICIPANT;PARTSTAT=ACCEPTED;RSVP=TRUE;CN="radRound
 s Radiology Events":https://community.radrounds.com/profile/radRoundsR
 adiologyEvents
END:VEVENT
END:VCALENDAR
