BEGIN:VCALENDAR
PRODID:NingEventWidget-v1
VERSION:2.0
METHOD:PUBLISH
BEGIN:VEVENT
UID:1791588:Event:167813
DTSTAMP:20260420T162318Z
SUMMARY:Medical Radiation Saftey Officer
DESCRIPTION:Course Topics\n\nRadiation fundamentals: nuclear and atomi
 c physics, radioactive decay, units of radioactivity and radiation dos
 e\nRadiation safety committees: organization, requirements, records, a
 ccountability\nRSO Responsibilities\nBiological effects of Radiation\n
 Personnel dosimetry: Bioassay and personnel dosimeters\nRadiation dete
 ction and measurement instruments\nX-ray machine exposures: Calculatio
 n of exposures\nExternal radiation protection: Time, distance and shie
 lding\nRadiation protection programs: Program reviews\nMinimizing dose
  in fluoroscopy and high dose examinations\nPreparing for inspections,
  record keeping, and documentation\nRadiation sources and equipment\nR
 adioactive materials licensing\nSecurity of radioactive materials and 
 increased controls\nAuthorized users and training requirements\nRadioa
 ctive materials wipe tests, inventory, best practices\nShipping and re
 ceiving of radioactive materials for medical facilities\nSealed source
  leak tests\nRadiation instrument calibration\nEmergency response, spi
 lls, and patient care\nMedical radioactive waste management\nRecord ke
 eping and audits\n\n\nFor more information visit https://community.rad
 rounds.com/events/medical-radiation-saftey-officer
DTSTART:20160730T120000Z
DTEND:20160731T201500Z
CATEGORIES:live, event
LOCATION:Dallas
WEBSITE:https://store.aheconline.com/index.php?route=product/product&p
 ath=59&product_id=2542
URL:https://store.aheconline.com/index.php?route=product/product&path=
 59&product_id=2542
CONTACT:18002391361
ORGANIZER;CN="Larry Carney":https://community.radrounds.com/profile/La
 rryCarney
ATTACH;FMTTYPE="image/jpeg":
ATTENDEE;ROLE=REQ-PARTICIPANT;PARTSTAT=ACCEPTED;RSVP=TRUE;CN="Larry Ca
 rney":https://community.radrounds.com/profile/LarryCarney
END:VEVENT
END:VCALENDAR
