BEGIN:VCALENDAR
PRODID:NingEventWidget-v1
VERSION:2.0
METHOD:PUBLISH
BEGIN:VEVENT
UID:1791588:Event:177528
DTSTAMP:20260421T211602Z
SUMMARY:Medical Radiation Safety Officer (Live Simulcast)
DESCRIPTION:If you need a current update, or you are planning to becom
 e a radiation safety officer, don’t miss this opportunity to obtain 
 the technical and practical information from one of the most authorita
 tive persons in the industry. A targeted approach to the information m
 ost useful for introduction to a medical RSO is investigated. Satisfyi
 ng state requirements for specialized training can be accomplished in 
 this educational activity.\n\nFor more information visit https://commu
 nity.radrounds.com/events/medical-radiation-safety-officer-live-simulc
 ast
DTSTART:20180210T130000Z
DTEND:20180211T211500Z
CATEGORIES:live, simulcast
LOCATION:Advanced Health Education Center
WEBSITE:https://store.aheconline.com/index.php?route=product/product&a
 mp;path=59&amp;product_id=3454
URL:https://store.aheconline.com/index.php?route=product/product&amp;p
 ath=59&amp;product_id=3454
CONTACT:800-239-1361
ORGANIZER;CN="Larry Carney":https://community.radrounds.com/profile/La
 rryCarney
ATTACH;FMTTYPE="image/jpeg":
ATTENDEE;ROLE=REQ-PARTICIPANT;PARTSTAT=ACCEPTED;RSVP=TRUE;CN="Larry Ca
 rney":https://community.radrounds.com/profile/LarryCarney
END:VEVENT
END:VCALENDAR
