BEGIN:VCALENDAR
PRODID:NingEventWidget-v1
VERSION:2.0
METHOD:PUBLISH
BEGIN:VEVENT
UID:1791588:Event:184564
DTSTAMP:20260419T172033Z
SUMMARY:Medical Radiation Safety Officer (Live Event)
DESCRIPTION:If you need a current update, or you are planning to becom
 e a radiation safety officer, don’t miss this opportunity to obtain 
 the technical and practical information from one of the most authorita
 tive persons in the industry. A targeted approach to the information m
 ost useful for introduction to a medical RSO is investigated. Satisfyi
 ng state requirements for specialized training can be accomplished in 
 this educational activity.\n\nFor more information visit https://commu
 nity.radrounds.com/events/medical-radiation-safety-officer-live-event-
 3
DTSTART:20190209T140000Z
DTEND:20190210T213000Z
CATEGORIES:live, event
LOCATION:Advanced Health Education Center
WEBSITE:http://store.aheconline.com
URL:http://store.aheconline.com
CONTACT:800-239-1361
ORGANIZER;CN="Larry Carney":https://community.radrounds.com/profile/La
 rryCarney
ATTACH;FMTTYPE="image/jpeg":
ATTENDEE;ROLE=REQ-PARTICIPANT;PARTSTAT=ACCEPTED;RSVP=TRUE;CN="Larry Ca
 rney":https://community.radrounds.com/profile/LarryCarney
END:VEVENT
END:VCALENDAR
