BEGIN:VCALENDAR
PRODID:NingEventWidget-v1
VERSION:2.0
METHOD:PUBLISH
BEGIN:VEVENT
UID:1791588:Event:123290
DTSTAMP:20260421T074755Z
SUMMARY:Medical Radiation Safety Officer
DESCRIPTION:If you need a current update, or you are planning to becom
 e a radiation safety officer, don’t miss this opportunity to obtain 
 the technical and practical information from one of the most authorita
 tive persons in the industry. A targeted approach to the information m
 ost useful for introduction to a medical RSO is investigated. Satisfyi
 ng state requirements for specialized training can be accomplished in 
 this educational activity.\n\nFor more information visit https://commu
 nity.radrounds.com/events/medical-radiation-safety-officer-4
DTSTART:20120915T120000Z
DTEND:20120916T210000Z
CATEGORIES:ce, course
LOCATION:Holiday Inn Select Airport
WEBSITE:http://store.aheconline.com/DisplayDetail.aspx?pid=7247
URL:http://store.aheconline.com/DisplayDetail.aspx?pid=7247
CONTACT:800-239-1361
ORGANIZER:Advanced Health Education Center
ATTACH;FMTTYPE="image/jpeg":
ATTENDEE;ROLE=REQ-PARTICIPANT;PARTSTAT=ACCEPTED;RSVP=TRUE;CN="Larry Ca
 rney":https://community.radrounds.com/profile/LarryCarney
END:VEVENT
END:VCALENDAR
