BEGIN:VCALENDAR
PRODID:NingEventWidget-v1
VERSION:2.0
METHOD:PUBLISH
BEGIN:VEVENT
UID:1791588:Event:116355
DTSTAMP:20260423T100825Z
SUMMARY:Medical Radiation Safety Officer
DESCRIPTION:Medical Radiation Safety Officer Saturday, April 21, 2012 
 - Sunday, April 22, 2012Wyndham Hotel Love Field Dallas, Texas (TX), U
 nited StatesProvided by Advanced Health Education Center  CME Provider
 : Advanced Health Education Center 8502 Tybor DriveHouston, Texas (TX)
  77074United States\nToll Free: (800) 239-1361Phone: (713) 772-0157Fax
 : (713) 772-0155\n\nConference Center:Wyndham Hotel Love Field 3300 W.
  Mockingbird LaneDallas, Texas (TX) 75235United States\nPhone: (214) 3
 57-8500\n Description:If you need a current update, or you are plannin
 g to become a radiation safety officer, donâ€™t miss this opportunity 
 to obtain the technical and practical information from one of the most
  authoritative persons in the industry. A targeted approach to the inf
 ormation most useful for introduction to a medical RSO is investigated
 . Satisfying state requirements for specialized training can be accomp
 lished in this educational activity.\nCourse Topics Day 1 â€¢ Radiatio
 n fundamentals: nuclear and atomic physics, radioactive decay, units o
 f radioactivity and radiation dose â€¢ Radiation safety committees: or
 ganization, requirements, records, accountability â€¢ RSO Responsibili
 ties â€¢ Biological effects of Radiation â€¢ Personnel dosimetry: Bioa
 ssay and personnel dosimeters â€¢ Radiation detection and measurement 
 instruments â€¢ X-ray machine exposures: Calculation of exposures â€¢ 
 External radiation protection: Time, distance and shielding â€¢ Radiat
 ion protection programs: Program reviews â€¢ Minimizing dose in fluoro
 scopy and high dose examinations â€¢ Preparing for inspections, record
  keeping, and documentation\nDay 2 â€¢ Radiation sources and equipment
  â€¢ Radioactive materials licensing â€¢ Security of radioactive mater
 ials and increased controls â€¢ Authorized users and training requirem
 ents â€¢ Radioactive materials wipe tests, inventory, best practices â
 €¢ Shipping and receiving of radioactive materials for medical facilit
 ies â€¢ Sealed source leak tests â€¢ Radiation instrument calibration 
 â€¢ Emergency response, spills, and patient care â€¢ Medical radioacti
 ve waste management â€¢ Record keeping and audits\nSelf Assessment Mod
 ule (SAM): No\nInstructors:Edgar Bailey, PE, CHP\nSpecialty Audience:R
 adiology\n\nFor more information visit https://community.radrounds.com
 /events/medical-radiation-safety-officer-1
DTSTART:20120421T040000Z
DTEND:20120423T035900Z
CATEGORIES:radiology
LOCATION:Wyndham Hotel Love Field
WEBSITE:http://www.wyndham.com/hotels/DALAP/main.wnt
URL:http://www.wyndham.com/hotels/DALAP/main.wnt
CONTACT:(214) 357-8500
ORGANIZER:Advanced Health Education Center
ATTACH;FMTTYPE="image/jpeg":
ATTENDEE;ROLE=REQ-PARTICIPANT;PARTSTAT=ACCEPTED;RSVP=TRUE;CN="radRound
 s Radiology Events":https://community.radrounds.com/profile/radRoundsR
 adiologyEvents
END:VEVENT
END:VCALENDAR
