BEGIN:VCALENDAR
PRODID:NingEventWidget-v1
VERSION:2.0
METHOD:PUBLISH
BEGIN:VEVENT
UID:1791588:Event:191688
DTSTAMP:20260423T052935Z
SUMMARY:Maternal Fetal Imaging - Advances in OB-GYN Ultrasound 2020
DESCRIPTION:We will cover first and second trimester congenital anomal
 ies, including a special lecture on how a surgeon treats cleft lip and
  palate. You’ll also learn the basics in assessing pregnancies at ri
 sk for placenta accreta spectrum since it is now 1:300 pregnancies. Th
 e increasing incidence of ectopic pregnancy and the unusual presentati
 on of various types of ectopic will be presented. Gynecological ultras
 ound will include ultrasound of endometrium, pelvic pain and adnexa.\n
 \nFor more information visit https://community.radrounds.com/events/ma
 ternal-fetal-imaging-advances-in-ob-gyn-ultrasound-2020
DTSTART:20200117T050000Z
DTEND:20200120T045900Z
CATEGORIES:cme, conference
LOCATION:The Westin Riverwalk
WEBSITE:https://www.worldclasscme.com/conferences/maternal-fetal-imagi
 ng-advances-ob-gyn-ultrasound4/
URL:https://www.worldclasscme.com/conferences/maternal-fetal-imaging-a
 dvances-ob-gyn-ultrasound4/
CONTACT:888-207-9105
ORGANIZER:Aura Goetz
ATTACH;FMTTYPE="image/jpeg":
ATTENDEE;ROLE=REQ-PARTICIPANT;PARTSTAT=ACCEPTED;RSVP=TRUE;CN="JoAnn Co
 oke":https://community.radrounds.com/profile/JoAnnCooke
END:VEVENT
END:VCALENDAR
