BEGIN:VCALENDAR
PRODID:NingEventWidget-v1
VERSION:2.0
METHOD:PUBLISH
BEGIN:VEVENT
UID:1791588:Event:160438
DTSTAMP:20260422T233418Z
SUMMARY:Maternal-Fetal Imaging 2016:  Advances in OB-GYN Ultrasound
DESCRIPTION:Register and view full program details HERE\nSharpen your 
 imaging and diagnostic skills at this annual advanced OB-GYN ultrasoun
 d three-day CME conference in San Antonio.  Hone your ability to accu
 rately detect anomalies in a variety of screening scenarios, including
  complicated and high risk situations.  Using both lecture and case-b
 ased approaches, faculty will cover imaging and diagnosis of abnormali
 ties of critical fetal anatomical structures, with special emphasis on
  cardiac imaging.  Obstetrical imaging during all phases of pregnancy
  will be also presented.  Additionally, participants will explore the
  effective use of ultrasound in gynecologic evaluation.  This engagin
 g presentation of cases will deliver practical skills you can implemen
 t immediately when you get home.  The combination of our highly rated
  expert faculty and our curriculum of progressive developments and evo
 lving techniques in fetal imaging will keep you at the forefront of th
 e field of ultrasound.  We hope you will join us.  This course is de
 signed for Radiologists, OB-GYNs and Sonographers.\nCourse Objectives\
 nUpon completion of this conference, the participant will be able to:\
 n\nProvide updated Guidelines of everyday Clinical Obstetrical ultraso
 und studies\nProvide updated Guidelines of everyday Clinical Gynelcogi
 cal ultrasound studies\nDemonstrate Guidelines for performing fetal ca
 rdiac screening\nReview ultrasound biohazard considerations in everyda
 y ultrasound scanning\nDemonstrate how to optimize scanning of the fet
 us from a sonographer’s perspective\nDiscuss emergency room delibera
 tions regarding ultrasound studies\nWorld Class CME is accredited by t
 he Accreditation Council for Continuing Medical Education to provide c
 ontinuing medical education for physicians.\nWorld Class CME designate
 s this live activity for a maximum of 18.75 AMA PRA Category 1 Credits
 ™. Physicians should claim only the credit commensurate with the ext
 ent of their participation in the activity.\nThe American College of O
 bstetricians and Gynecologists has assigned up to 19 cognate credits t
 o this program.\n\n\n\nFor more information visit https://community.ra
 drounds.com/events/maternal-fetal-imaging-2016-advances-in-ob-gyn-ultr
 asound
DTSTART:20160129T050000Z
DTEND:20160201T045900Z
CATEGORIES:maternal-fetal, imaging, ob-gyn, ultrasound, obstetrics, gy
 necology, sonography, sonographer, "ob/gyn", radiology, diagnostic, cm
 e, san, antonio, texas
LOCATION:The Westin Riverwalk
WEBSITE:http://www.worldclasscme.com/conferences/maternal-fetal-imagin
 g1/
URL:http://www.worldclasscme.com/conferences/maternal-fetal-imaging1/
CONTACT:(980) 819-5095
ORGANIZER:World Class CME (www.worldclasscme.com)
ATTACH;FMTTYPE="image/jpeg":http://storage.ning.com/topology/rest/1.0/
 file/get/1044763401?profile=original
ATTENDEE;ROLE=REQ-PARTICIPANT;PARTSTAT=ACCEPTED;RSVP=TRUE;CN="JoAnn Co
 oke":https://community.radrounds.com/profile/JoAnnCooke
END:VEVENT
END:VCALENDAR
