BEGIN:VCALENDAR
PRODID:NingEventWidget-v1
VERSION:2.0
METHOD:PUBLISH
BEGIN:VEVENT
UID:1791588:Event:154025
DTSTAMP:20260421T125331Z
SUMMARY:Maternal-Fetal Imaging 2015:  Advances in OB-GYN Ultrasound
DESCRIPTION:Sharpen your imaging and diagnostic skills at this annual 
 advanced OB-GYN ultrasound three-day CME conference.  Hone your abili
 ty to accurately detect anomalies in a variety of screening scenarios,
  including complicated and high risk situations.  This course is des
 igned for Radiologists, OB-GYNs and Sonographers.\n\nFor more informat
 ion visit https://community.radrounds.com/events/maternal-fetal-imagin
 g-2015-advances-in-ob-gyn-ultrasound
DTSTART:20150123T050000Z
DTEND:20150126T045900Z
CATEGORIES:ob-gyn, ultrasound, "ob/gyn", sonography, maternal-fetal, i
 maging, radiology, obstetrics, obstetrical
LOCATION:The Westin Riverwalk
WEBSITE:http://www.worldclasscme.com
URL:http://www.worldclasscme.com
CONTACT:(980) 819-5095
ORGANIZER:World Class CME
ATTACH;FMTTYPE="image/jpeg":http://storage.ning.com/topology/rest/1.0/
 file/get/1044758236?profile=original
ATTENDEE;ROLE=REQ-PARTICIPANT;PARTSTAT=ACCEPTED;RSVP=TRUE;CN="JoAnn Co
 oke":https://community.radrounds.com/profile/JoAnnCooke
END:VEVENT
END:VCALENDAR
