BEGIN:VCALENDAR
PRODID:NingEventWidget-v1
VERSION:2.0
METHOD:PUBLISH
BEGIN:VEVENT
UID:1791588:Event:111171
DTSTAMP:20260423T154417Z
SUMMARY:Mastering the Art of Digital Radiography
DESCRIPTION:ATTENTION radiologic technologists, medical imaging specia
 lists, educators, and vendor personnel!:\n \nMTMI is offering Masteri
 ng the Art of Digital Radiography! This seminar will confront the univ
 ersal problems and concerns with digital radiography.\n \nGain practi
 cal knowledge to help you better utilize your CR and DR equipment. Wit
 h over 250 images and 9 videos, the presentation will feel like a \"ha
 nds-on\" workshop!\n \nSeminar offers 8 Hours ARRT Category A Credit.
 \n \nCLICK HERE TO REGISTER NOW!\n \n \n\nFor more information visi
 t https://community.radrounds.com/events/mastering-the-art-of-digital-
 radiography
DTSTART:20120331T040000Z
DTEND:20120401T035900Z
CATEGORIES:"seminar/conference"
LOCATION:Kansas City, MO
WEBSITE:http://www.mtmi.net/seminars/Dig_RAD.php
URL:http://www.mtmi.net/seminars/Dig_RAD.php
CONTACT:(800) 765-6864
ORGANIZER:Medical Technology Management Institute (MTMI)
ATTACH;FMTTYPE="image/jpeg":http://storage.ning.com/topology/rest/1.0/
 file/get/1044737454?profile=original
ATTENDEE;ROLE=REQ-PARTICIPANT;PARTSTAT=ACCEPTED;RSVP=TRUE;CN="Rizza T.
  Kinney":https://community.radrounds.com/profile/RizzaTKinney
END:VEVENT
END:VCALENDAR
