BEGIN:VCALENDAR
PRODID:NingEventWidget-v1
VERSION:2.0
METHOD:PUBLISH
BEGIN:VEVENT
UID:1791588:Event:163239
DTSTAMP:20260422T083149Z
SUMMARY:Mastering Chest & Body CT
DESCRIPTION:This year“s Master Course in Chest and Body CT will be h
 eld in the beautiful San Juan Marriott Resort & Stellaris Casino.  Th
 e program will offer you up to 5 fabulous days of intensive radiology 
 training together with generous time for you and your family to enjoy 
 the pleasures of Puerto Rico.\n\nFor more information visit https://co
 mmunity.radrounds.com/events/mastering-chest-body-ct
DTSTART:20160315T220000Z
DTEND:20160319T230000Z
CATEGORIES:cme, course
LOCATION:San Juan Resort & Stellaris Casino
WEBSITE:https://iame.com/radiology-master-course-chest-and-body-ct.htm
 l
URL:https://iame.com/radiology-master-course-chest-and-body-ct.html
CONTACT:802 824 4433
ORGANIZER;CN="Richard Hom":https://community.radrounds.com/profile/Ric
 hardHom
ATTACH;FMTTYPE="image/jpeg":
ATTENDEE;ROLE=REQ-PARTICIPANT;PARTSTAT=ACCEPTED;RSVP=TRUE;CN="Richard 
 Hom":https://community.radrounds.com/profile/RichardHom
END:VEVENT
END:VCALENDAR
