BEGIN:VCALENDAR
PRODID:NingEventWidget-v1
VERSION:2.0
METHOD:PUBLISH
BEGIN:VEVENT
UID:1791588:Event:164740
DTSTAMP:20260422T101321Z
SUMMARY:Master Course in Chest & Body CT
DESCRIPTION:This year“s Master Course in Chest and Body CT, with Dr.
  Fishman and Dr. White, will be held in the beautiful San Juan Marriot
 t Resort & Stellaris Casino. The program will offer you up to 5 fabulo
 us days of intensive radiology training together with generous time fo
 r you and your family to enjoy the pleasures of Puerto Rico. Depending
  on your preference you can register for the body section only, the ch
 est section only, or the full program.\n\nFor more information visit h
 ttps://community.radrounds.com/events/master-course-in-chest-body-ct
DTSTART:20160315T110000Z
DTEND:20160319T210000Z
CATEGORIES:conference
LOCATION:Stellaris Resort & Casino, San Juan, PR
WEBSITE:https://iame.com/medical-conferences/radiology-master-course-c
 hest-and-body-ct
URL:https://iame.com/medical-conferences/radiology-master-course-chest
 -and-body-ct
CONTACT:800 307 7090
ORGANIZER;CN="Richard Hom":https://community.radrounds.com/profile/Ric
 hardHom
ATTACH;FMTTYPE="image/jpeg":
ATTENDEE;ROLE=REQ-PARTICIPANT;PARTSTAT=ACCEPTED;RSVP=TRUE;CN="Richard 
 Hom":https://community.radrounds.com/profile/RichardHom
END:VEVENT
END:VCALENDAR
