BEGIN:VCALENDAR
PRODID:NingEventWidget-v1
VERSION:2.0
METHOD:PUBLISH
BEGIN:VEVENT
UID:1791588:Event:116077
DTSTAMP:20260423T124145Z
SUMMARY:Mammography Tools: Positioning, Pathology and Professionalism
DESCRIPTION:Mammography Tools: Positioning, Pathology and Professional
 ism Saturday, April 14, 2012 - Saturday, April 14, 2012JPS Health Netw
 ork (John Peter Smith Hospital)Ft. Worth, Texas (TX), United StatesPro
 vided by Advanced Health Education Center  CME Provider: Advanced Heal
 th Education Center 8502 Tybor DriveHouston, Texas (TX) 77074United St
 ates\nToll Free: (800) 239-1361Phone: (713) 772-0157Fax: (713) 772-015
 5\n\nConference Center:JPS Health Network (John Peter Smith Hospital)1
 500 South Main St.main entrance 3rd floor auditoriumFt. Worth, Texas (
 TX) 76104United States\nPhone: 817-429-5156\nDescription:Come join us 
 for a new mammography class developed and presented by one of MD Ander
 son Cancer Center’s finest technologists. This mammography class wil
 l bring you a wealth of information on detection and treatment of brea
 st cancer. The “positioning” will focus on deficiencies and challe
 nges we all face every day. The \"pathology\" session will focus on to
 ols for masses, calcifications, scars vs. residual disease and the sta
 ging of our patients. Breast imaging techniques being used as a compli
 ment to mammography will be included as well as body mechanics of the 
 mammography technologist. We will take a look at mammography artifacts
  and be engaged in the presentation! The day will conclude with a fun,
  motivational session focusing on YOU the mammogaphy technologist. Bei
 ng a mammographer takes passion and you will love this class as you st
 ay involved in your career and follow your path in “making saving li
 ves every day your mission”!\nCourse Topics • The Art of Positioni
 ong • Positioning Deficiencies and Positioniong Challenges• Mammog
 raphy Artifacts-guessing game• Pathology Toolbox• Don't You Have t
 hat Mammography Machine that does not use Compression?• The Champion
  Mammographer\nSelf Assessment Module (SAM): No\nInstructors:Sandra Ma
 xey, AAS, RT(R)(M)\nSpecialty Audience:Radiology\n\nFor more informati
 on visit https://community.radrounds.com/events/mammography-tools-posi
 tioning-pathology-and-professionalism
DTSTART:20120414T040000Z
DTEND:20120415T035900Z
CATEGORIES:radiology
LOCATION:JPS Health Network (John Peter Smith Hospital)
WEBSITE:
URL:
CONTACT:817-429-5156
ORGANIZER:Advanced Health Education Center
ATTACH;FMTTYPE="image/jpeg":
ATTENDEE;ROLE=REQ-PARTICIPANT;PARTSTAT=ACCEPTED;RSVP=TRUE;CN="radRound
 s Radiology Events":https://community.radrounds.com/profile/radRoundsR
 adiologyEvents
END:VEVENT
END:VCALENDAR
