BEGIN:VCALENDAR
PRODID:NingEventWidget-v1
VERSION:2.0
METHOD:PUBLISH
BEGIN:VEVENT
UID:1791588:Event:123613
DTSTAMP:20260421T061429Z
SUMMARY:Mammography Tools: Positioning, Pathology and Professionalism
DESCRIPTION:Come join us for a new mammography class developed and pre
 sented by one of MD Anderson Cancer Center’s finest technologists. T
 his mammography class will bring you a wealth of information on detect
 ion and treatment of breast cancer. The “positioning” will focus o
 n deficiencies and challenges we all face every day.  The \"pathology
 \" session will focus on tools for masses, calcifications, scars vs. r
 esidual disease and the staging of our patients.  Breast imaging tech
 niques being used as a compliment to mammography will be included as w
 ell as body mechanics of the mammography technologist.  We will take 
 a look at mammography artifacts and be engaged in the presentation!  
 The day will conclude with a fun, motivational session focusing on YOU
  the mammogaphy technologist.  Being a mammographer takes passion and
  you will love this class as you stay involved in your career and foll
 ow your path in “making saving lives every day your mission”!\n\nF
 or more information visit https://community.radrounds.com/events/mammo
 graphy-tools-positioning-pathology-and-professionalism-2
DTSTART:20120922T120000Z
DTEND:20120922T201500Z
CATEGORIES:ce, course
LOCATION:Jane Phillips Medical Center
WEBSITE:http://store.aheconline.com/DisplayDetail.aspx?pid=7273
URL:http://store.aheconline.com/DisplayDetail.aspx?pid=7273
CONTACT:800-239-1361
ORGANIZER:Advanced Health Education Center
ATTACH;FMTTYPE="image/jpeg":
ATTENDEE;ROLE=REQ-PARTICIPANT;PARTSTAT=ACCEPTED;RSVP=TRUE;CN="Larry Ca
 rney":https://community.radrounds.com/profile/LarryCarney
END:VEVENT
END:VCALENDAR
