BEGIN:VCALENDAR
PRODID:NingEventWidget-v1
VERSION:2.0
METHOD:PUBLISH
BEGIN:VEVENT
UID:1791588:Event:116097
DTSTAMP:20260423T064728Z
SUMMARY:Mammography Tools: Positioning, Pathology and Professionalism
DESCRIPTION:Mammography Tools: Positioning, Pathology and Professional
 ism Saturday, April 28, 2012 - Saturday, April 28, 2012Ambassador Hote
 l Amarillo Amarillo, Texas (TX), United StatesProvided by Advanced Hea
 lth Education Center  CME Provider: Advanced Health Education Center 8
 502 Tybor DriveHouston, Texas (TX) 77074United States\nToll Free: (800
 ) 239-1361Phone: (713) 772-0157Fax: (713) 772-0155\n\nConference Cente
 r:Ambassador Hotel Amarillo 3100 I-40 WestAmarillo, Texas (TX) 79102Un
 ited States\nPhone: (806) 358-6161\n Description:Come join us for a ne
 w mammography class developed and presented by one of MD Anderson Canc
 er Center’s finest technologists. This mammography class will bring 
 you a wealth of information on detection and treatment of breast cance
 r. The “positioning” will focus on deficiencies and challenges we 
 all face every day. The \"pathology\" session will focus on tools for 
 masses, calcifications, scars vs. residual disease and the staging of 
 our patients. Breast imaging techniques being used as a compliment to 
 mammography will be included as well as body mechanics of the mammogra
 phy technologist. We will take a look at mammography artifacts and be 
 engaged in the presentation! The day will conclude with a fun, motivat
 ional session focusing on YOU the mammogaphy technologist. Being a mam
 mographer takes passion and you will love this class as you stay invol
 ved in your career and follow your path in “making saving lives ever
 y day your mission”!\nCourse Topics • The Art of Positioniong • 
 Positioning Deficiencies and Positioniong Challenges• Mammography Ar
 tifacts-guessing game• Pathology Toolbox• Don't You Have that Mamm
 ography Machine that does not use Compression?• The Champion Mammogr
 apher\nSelf Assessment Module (SAM): No\nInstructors:Deborah Thames, R
 T(R)(M)(QM)\nSpecialty Audience:Radiology\n\nFor more information visi
 t https://community.radrounds.com/events/mammography-tools-positioning
 -pathology-and-professionalism-1
DTSTART:20120428T040000Z
DTEND:20120429T035900Z
CATEGORIES:radiology
LOCATION:Ambassador Hotel Amarillo
WEBSITE:http://www.ambassadoramarillo.com/
URL:http://www.ambassadoramarillo.com/
CONTACT:(806) 358-6161
ORGANIZER:Advanced Health Education Center
ATTACH;FMTTYPE="image/jpeg":
ATTENDEE;ROLE=REQ-PARTICIPANT;PARTSTAT=ACCEPTED;RSVP=TRUE;CN="radRound
 s Radiology Events":https://community.radrounds.com/profile/radRoundsR
 adiologyEvents
END:VEVENT
END:VCALENDAR
