BEGIN:VCALENDAR
PRODID:NingEventWidget-v1
VERSION:2.0
METHOD:PUBLISH
BEGIN:VEVENT
UID:1791588:Event:123408
DTSTAMP:20260422T031445Z
SUMMARY:Mammography: The Promise of Hope
DESCRIPTION:This new mammography course will focus on informative topi
 cs of interest to mammographers! You will learn the skill needed to be
  an expert at image critique.  See a day in the life of mammographers
  in the Middle East and their passion to perfection.  Discuss genetic
  testing for breast cancer and round out the day with the latest techn
 ology DIGITAL BREAST TOMOSYNTHESIS (DBT)!  We will learn the theory o
 f digital breast tomosynthesis and clinical applications.  It is pack
 ed full of information you are sure to love!  You are sure to love th
 e knowledge gained regarding this fascinating new modality. This class
  is perfect for the mammographer looking for a day of information and 
 knowledge you can take back to work and move into the future and our f
 ight against breast cancer!   Don't miss this day of intriguing topi
 cs and discussions you are sure to love. Come join us for this day and
  go home with enhanced knowledge and excitement for our splendid profe
 ssion!\n\nFor more information visit https://community.radrounds.com/e
 vents/mammography-the-promise-of-hope
DTSTART:20120714T120000Z
DTEND:20120714T201500Z
CATEGORIES:ce, course
LOCATION:Ocean Springs Medical Park/Ocean Springs Imaging Center
WEBSITE:http://store.aheconline.com/DisplayDetail.aspx?pid=7260
URL:http://store.aheconline.com/DisplayDetail.aspx?pid=7260
CONTACT:800-239-1361
ORGANIZER:Advanced Health Education Center
ATTACH;FMTTYPE="image/jpeg":
ATTENDEE;ROLE=REQ-PARTICIPANT;PARTSTAT=ACCEPTED;RSVP=TRUE;CN="Larry Ca
 rney":https://community.radrounds.com/profile/LarryCarney
END:VEVENT
END:VCALENDAR
