BEGIN:VCALENDAR
PRODID:NingEventWidget-v1
VERSION:2.0
METHOD:PUBLISH
BEGIN:VEVENT
UID:1791588:Event:116145
DTSTAMP:20260423T204618Z
SUMMARY:Mammography: Take This Job and Love It!
DESCRIPTION:Mammography: Take This Job and Love It! Saturday, March 24
 , 2012 - Saturday, March 24, 2012Red River Regional Hospital Bonham, T
 exas (TX), United StatesProvided by Advanced Health Education Center  
 CME Provider: Advanced Health Education Center 8502 Tybor DriveHouston
 , Texas (TX) 77074United States\nToll Free: (800) 239-1361Phone: (713)
  772-0157Fax: (713) 772-0155\n\nConference Center:Red River Regional H
 ospital 504 Lipscomb DriveConference Room North side of hospitalBonham
 , Texas (TX) 75418United States\nPhone: 903-640-7319\nDescription:What
  a perfect name for such a rewarding yet challenging profession!. Prov
 iding excellent quality imaging and patient care with exceptional cust
 omer service is an integral part of the Mammography Department. Faced 
 with challenges every day we must remain focused on imaging skills and
  patient safety. Communication affects every aspect of our job and our
  ability to gain patient compliance. High quality imaging is # 1 when 
 it comes to detecting breast cancer and communication is an important 
 part of obtaining optimal imaging and compression during the mammogram
 . Educating the mammography patient regarding the importance of compre
 ssion and facts regarding radiation safety always come into play with 
 our patients. The course will conclude with medical legal issues that 
 affect the mammography department and imaging professional.This day of
  learning will be guided by faculty that understand the benefits of en
 gaging the class participants in activities and scenarios that teach y
 ou how to apply quality management theory and process to real life wor
 k situations. This course will combine instructor presentations and in
 teractive sessions with the opportunity to take a look your communicat
 ion skills, medical legal issues and real case scenarios where you wil
 l be the judge. We all must know how to deal with the day to day probl
 ems which can be roadblocks to keeping us and our patients happy and b
 e able to provide them with the “Warm Fuzzy” of mammographic imagi
 ng. Join AHEC for a day of education and interaction which will enhanc
 e your networking and professional development. You will love it!\nCou
 rse Topics • The State of Mammography: 2011• Who’s in Charge of 
 Quality Management in Mammography?• Quality Assurance Mammography Pr
 ograms• Quality Assurance Process: Cycles of Improvement• 80/20 Pr
 inciple• Performing the Mammogram: Gaining Your Patients Compliance 
 for Quality Imaging• Social Media in the Mammography Department: Fac
 ebook vs HIPAA• The “Warm Fuzzy” of Mammographic Imaging\nSelf A
 ssessment Module (SAM): No\nInstructors:Peggy Hoosier, MEd, RT(R)(M)\n
 Specialty Audience:Radiology\n\nFor more information visit https://com
 munity.radrounds.com/events/mammography-take-this-job-and-love-it
DTSTART:20120324T040000Z
DTEND:20120325T035900Z
CATEGORIES:radiology
LOCATION:Red River Regional Hospital
WEBSITE:http://www.redriverregional.com/
URL:http://www.redriverregional.com/
CONTACT:903-640-7319
ORGANIZER:Advanced Health Education Center
ATTACH;FMTTYPE="image/jpeg":
ATTENDEE;ROLE=REQ-PARTICIPANT;PARTSTAT=ACCEPTED;RSVP=TRUE;CN="radRound
 s Radiology Events":https://community.radrounds.com/profile/radRoundsR
 adiologyEvents
END:VEVENT
END:VCALENDAR
