BEGIN:VCALENDAR
PRODID:NingEventWidget-v1
VERSION:2.0
METHOD:PUBLISH
BEGIN:VEVENT
UID:1791588:Event:158434
DTSTAMP:20260421T160943Z
SUMMARY:Mammography Review
DESCRIPTION:Register early and save! Please register early and reserve
  your place by providing payment to avoid an additional $25 fee requir
 ed for registrations given within two (2) weeks of the course.\nWhethe
 r the advanced level mammography registry examination is in your futur
 e, or you would like to formalize your understanding of positioning, r
 egulations and concepts of mammography, this workshop will benefit you
 . The workshop provides students with a thorough review of mammography
  regulations and rules as well as relevant clinical applications that 
 can quickly be transferred to the workplace. The content is reflective
  of the ARRT content specifications and provides ample opportunity for
  students to interact with expert mammography faculty with proven succ
 ess in preparing students for advanced level practice.\nCourse Topics\
 nDay 1\n\n​Patient Care: Education and Assessment\nInstrumentation a
 nd Quality Assurance\nAnatomy, Physiology, and Pathology\n\nDay 2\n\nM
 ammographic Technique and Image Evaluation\nBreast Imaging Procedures\
 n\n\n\nFor more information visit https://community.radrounds.com/even
 ts/mammography-review
DTSTART:20151212T050000Z
DTEND:20151214T045900Z
CATEGORIES:seminar
LOCATION:AHEC
WEBSITE:https://store.aheconline.com/index.php?route=product/product&f
 ilter_name=MAMMOGRAPHY%20REVIEW&product_id=1605
URL:https://store.aheconline.com/index.php?route=product/product&filte
 r_name=MAMMOGRAPHY%20REVIEW&product_id=1605
CONTACT:713-772-0157
ORGANIZER;CN="Larry Carney":https://community.radrounds.com/profile/La
 rryCarney
ATTACH;FMTTYPE="image/jpeg":
ATTENDEE;ROLE=REQ-PARTICIPANT;PARTSTAT=ACCEPTED;RSVP=TRUE;CN="Larry Ca
 rney":https://community.radrounds.com/profile/LarryCarney
END:VEVENT
END:VCALENDAR
