BEGIN:VCALENDAR
PRODID:NingEventWidget-v1
VERSION:2.0
METHOD:PUBLISH
BEGIN:VEVENT
UID:1791588:Event:172717
DTSTAMP:20260419T130735Z
SUMMARY:Mammography Review (Live Event)
DESCRIPTION:Whether the advanced level mammography registry examinatio
 n is in your future, or you would like to formalize your understanding
  of positioning, regulations and concepts of mammography, this worksho
 p will benefit you. The workshop provides students with a thorough rev
 iew of mammography regulations and rules as well as relevant clinical 
 applications that can quickly be transferred to the workplace. The con
 tent is reflective of the ARRT content specifications and provides amp
 le opportunity for students to interact with expert mammography facult
 y with proven success in preparing students for advanced level practic
 e.\n\nFor more information visit https://community.radrounds.com/event
 s/mammography-review-live-event
DTSTART:20171111T130000Z
DTEND:20171112T211500Z
CATEGORIES:live, event
LOCATION:Advanced Health Education Center
WEBSITE:https://store.aheconline.com/index.php?route=product/product&p
 ath=59&product_id=2958
URL:https://store.aheconline.com/index.php?route=product/product&path=
 59&product_id=2958
CONTACT:800-239-1361
ORGANIZER;CN="Larry Carney":https://community.radrounds.com/profile/La
 rryCarney
ATTACH;FMTTYPE="image/jpeg":
ATTENDEE;ROLE=REQ-PARTICIPANT;PARTSTAT=ACCEPTED;RSVP=TRUE;CN="Larry Ca
 rney":https://community.radrounds.com/profile/LarryCarney
END:VEVENT
END:VCALENDAR
