BEGIN:VCALENDAR
PRODID:NingEventWidget-v1
VERSION:2.0
METHOD:PUBLISH
BEGIN:VEVENT
UID:1791588:Event:184566
DTSTAMP:20260420T122702Z
SUMMARY:Mammography Review (Live Event)
DESCRIPTION:Whether the advanced level mammography registry examinatio
 n is in your future, or you would like to formalize your understanding
  of positioning, regulations and concepts of mammography, this worksho
 p will benefit you. The workshop provides students with a thorough rev
 iew of mammography regulations and rules as well as relevant clinical 
 applications that can quickly be transferred to the workplace. The con
 tent is reflective of the ARRT content specifications and provides amp
 le opportunity for students to interact with expert mammography facult
 y with proven success in preparing students for advanced level practic
 e.\n\nFor more information visit https://community.radrounds.com/event
 s/mammography-review-live-event-1
DTSTART:20190216T130000Z
DTEND:20190217T210000Z
CATEGORIES:live, event
LOCATION:Advanced Health Education Center
WEBSITE:http://store.aheconline.com
URL:http://store.aheconline.com
CONTACT:800-239-1361
ORGANIZER;CN="Larry Carney":https://community.radrounds.com/profile/La
 rryCarney
ATTACH;FMTTYPE="image/jpeg":
ATTENDEE;ROLE=REQ-PARTICIPANT;PARTSTAT=ACCEPTED;RSVP=TRUE;CN="Jim Roha
 n":https://community.radrounds.com/profile/JimRohan
ATTENDEE;ROLE=REQ-PARTICIPANT;PARTSTAT=ACCEPTED;RSVP=TRUE;CN="Larry Ca
 rney":https://community.radrounds.com/profile/LarryCarney
END:VEVENT
END:VCALENDAR
