BEGIN:VCALENDAR
PRODID:NingEventWidget-v1
VERSION:2.0
METHOD:PUBLISH
BEGIN:VEVENT
UID:1791588:Event:158742
DTSTAMP:20260421T060333Z
SUMMARY:Mammography Review
DESCRIPTION:Whether the advanced level mammography registry examinatio
 n is in your future, or you would like to formalize your understanding
  of positioning, regulations and concepts of mammography, this worksho
 p will benefit you. The workshop provides students with a thorough rev
 iew of mammography regulations and rules as well as relevant clinical 
 applications that can quickly be transferred to the workplace. The con
 tent is reflective of the ARRT content specifications and provides amp
 le opportunity for students to interact with expert mammography facult
 y with proven success in preparing students for advanced level practic
 e.\nCourse Topics\nDay 1\n\n​Patient Care: Education and Assessment\
 nInstrumentation and Quality Assurance\nAnatomy, Physiology, and Patho
 logy\n\nDay 2\n\nMammographic Technique and Image Evaluation\nBreast I
 maging Procedures\n\n\nFor more information visit https://community.ra
 drounds.com/events/mammography-review-2
DTSTART:20150530T040000Z
DTEND:20150601T035900Z
CATEGORIES:seminar
LOCATION:AHEC
WEBSITE:https://store.aheconline.com/index.php?route=product/product&f
 ilter_name=mammography%20review&product_id=1605
URL:https://store.aheconline.com/index.php?route=product/product&filte
 r_name=mammography%20review&product_id=1605
CONTACT:713-772-0157
ORGANIZER;CN="Larry Carney":https://community.radrounds.com/profile/La
 rryCarney
ATTACH;FMTTYPE="image/jpeg":
ATTENDEE;ROLE=REQ-PARTICIPANT;PARTSTAT=ACCEPTED;RSVP=TRUE;CN="Larry Ca
 rney":https://community.radrounds.com/profile/LarryCarney
END:VEVENT
END:VCALENDAR
