BEGIN:VCALENDAR
PRODID:NingEventWidget-v1
VERSION:2.0
METHOD:PUBLISH
BEGIN:VEVENT
UID:1791588:Event:185029
DTSTAMP:20260421T142745Z
SUMMARY:Mammography Positioning Refresher (Live Simulcast)
DESCRIPTION:Topics:\nÂ·Â Â Â Â Â Â Â Â  CC Refresher\nÂ·Â Â Â Â Â Â Â 
 Â  MLO Refresher\nÂ·Â Â Â Â Â Â Â Â  Supplemental Views\nÂ·Â Â Â Â Â Â
  Â Â  Male Patient Exams\n\n\nFor more information visit https://commu
 nity.radrounds.com/events/mammography-positioning-refresher-live-simul
 cast-1
DTSTART:20190713T130000Z
DTEND:20190713T203000Z
CATEGORIES:live, simulcast
LOCATION:Advanced Health Education Center
WEBSITE:http://store.aheconline.com
URL:http://store.aheconline.com
CONTACT:800-239-1361
ORGANIZER;CN="Larry Carney":https://community.radrounds.com/profile/La
 rryCarney
ATTACH;FMTTYPE="image/jpeg":
ATTENDEE;ROLE=REQ-PARTICIPANT;PARTSTAT=ACCEPTED;RSVP=TRUE;CN="Larry Ca
 rney":https://community.radrounds.com/profile/LarryCarney
END:VEVENT
END:VCALENDAR
