BEGIN:VCALENDAR
PRODID:NingEventWidget-v1
VERSION:2.0
METHOD:PUBLISH
BEGIN:VEVENT
UID:1791588:Event:194799
DTSTAMP:20260421T121250Z
SUMMARY:Mammography Positioning Refresher (Live Event)
DESCRIPTION:Topics:\n\nCC Refresher\nMLO Refresher\nSupplemental Views
 \nMale Patient Exam\n\n\nFor more information visit https://community.
 radrounds.com/events/mammography-positioning-refresher-live-event-2
DTSTART:20200321T120000Z
DTEND:20200321T203000Z
CATEGORIES:live, event
LOCATION:Advanced Health Education Center
WEBSITE:http://store.aheconline.com
URL:http://store.aheconline.com
CONTACT:1 (800) 239-1361
ORGANIZER:AHEC
ATTACH;FMTTYPE="image/jpeg":
ATTENDEE;ROLE=REQ-PARTICIPANT;PARTSTAT=ACCEPTED;RSVP=TRUE;CN="Larry Ca
 rney":https://community.radrounds.com/profile/LarryCarney
END:VEVENT
END:VCALENDAR
