BEGIN:VCALENDAR
PRODID:NingEventWidget-v1
VERSION:2.0
METHOD:PUBLISH
BEGIN:VEVENT
UID:1791588:Event:172417
DTSTAMP:20260421T125958Z
SUMMARY:Mammography: Positioning, Professionalism and the Power of Wor
 ds (Live Event)
DESCRIPTION:As a mammographer you have to compassionately deal with ne
 wly diagnosed patients. Mammographers can benefit from a patient navig
 ator’s skills to provide exceptional care.\nThis eight hour class fo
 cuses on developing your skills, and will begin with professional and 
 career language determination and communication skill building. Mammog
 raphers will benefit from the discussion of how to help guide signific
 ant others throughcoping mechanisms throughout their loved ones illnes
 s.  You will love the gold standard of  proper positioning technique
 s for breast cancer detection where Kenyia will throughly discuss the 
 basics of positioning tricks and tips.  You'll gain a better understa
 nding of your own and co-workers personalities to enable you to make w
 orkplace decisions based on the strengths of your department.  The da
 y will close playing an enlightening game identifying your own persona
 lity traits based based on numbers!.\n\nFor more information visit htt
 ps://community.radrounds.com/events/mammography-positioning-profession
 alism-and-the-power-of-words-2
DTSTART:20170729T120000Z
DTEND:20170729T201500Z
CATEGORIES:live, event
LOCATION:JPS Health Network, John Peter Smith Hospital
WEBSITE:https://store.aheconline.com/index.php?route=product/product&p
 ath=59&product_id=3102
URL:https://store.aheconline.com/index.php?route=product/product&path=
 59&product_id=3102
CONTACT:800-239-1361
ORGANIZER;CN="Larry Carney":https://community.radrounds.com/profile/La
 rryCarney
ATTACH;FMTTYPE="image/jpeg":
ATTENDEE;ROLE=REQ-PARTICIPANT;PARTSTAT=ACCEPTED;RSVP=TRUE;CN="Larry Ca
 rney":https://community.radrounds.com/profile/LarryCarney
END:VEVENT
END:VCALENDAR
