BEGIN:VCALENDAR
PRODID:NingEventWidget-v1
VERSION:2.0
METHOD:PUBLISH
BEGIN:VEVENT
UID:1791588:Event:183008
DTSTAMP:20260423T023706Z
SUMMARY:Mammography Positioning Basics (Live Webinar)
DESCRIPTION:Course Topics:\n\nKnowledge of Breast Anatomy-Breast Art\n
 \nThe Art of Positioning Craniocaudal (CC)\nThe Art of Positioning Med
 ial-lateral oblique (MLO)\n\n\n\nFor more information visit https://co
 mmunity.radrounds.com/events/mammography-positioning-basics-live-webin
 ar
DTSTART:20180711T160000Z
DTEND:20180711T180000Z
CATEGORIES:live, webinar
LOCATION:Advanced Health Education Center
WEBSITE:https://store.aheconline.com/index.php?route=product/product&a
 mp;path=353_191&amp;product_id=4169
URL:https://store.aheconline.com/index.php?route=product/product&amp;p
 ath=353_191&amp;product_id=4169
CONTACT:800-239-1361
ORGANIZER;CN="Larry Carney":https://community.radrounds.com/profile/La
 rryCarney
ATTACH;FMTTYPE="image/jpeg":
ATTENDEE;ROLE=REQ-PARTICIPANT;PARTSTAT=ACCEPTED;RSVP=TRUE;CN="Larry Ca
 rney":https://community.radrounds.com/profile/LarryCarney
END:VEVENT
END:VCALENDAR
