BEGIN:VCALENDAR
PRODID:NingEventWidget-v1
VERSION:2.0
METHOD:PUBLISH
BEGIN:VEVENT
UID:1791588:Event:183031
DTSTAMP:20260424T010132Z
SUMMARY:Mammography Positioning Basics (Live Webinar)
DESCRIPTION:Course Topics:\n\nKnowledge of Breast Anatomy-Breast Art\n
 \nThe Art of Positioning Craniocaudal (CC)\n\nThe Art of Positioning M
 edial-lateral oblique (MLO)\n\n\n\nFor more information visit https://
 community.radrounds.com/events/mammography-positioning-basics-live-web
 inar-2
DTSTART:20180719T220000Z
DTEND:20180720T010000Z
CATEGORIES:live, webinar
LOCATION:Advanced Health Education Center
WEBSITE:https://store.aheconline.com/
URL:https://store.aheconline.com/
CONTACT:7137720157
ORGANIZER;CN="Larry Carney":https://community.radrounds.com/profile/La
 rryCarney
ATTACH;FMTTYPE="image/jpeg":
ATTENDEE;ROLE=REQ-PARTICIPANT;PARTSTAT=ACCEPTED;RSVP=TRUE;CN="Larry Ca
 rney":https://community.radrounds.com/profile/LarryCarney
END:VEVENT
END:VCALENDAR
