BEGIN:VCALENDAR
PRODID:NingEventWidget-v1
VERSION:2.0
METHOD:PUBLISH
BEGIN:VEVENT
UID:1791588:Event:123436
DTSTAMP:20260421T190957Z
SUMMARY:Mammography: Pink Ribbons and Passion
DESCRIPTION:What mammographer does not love pink ribbons? We love pink
 !  And we wear our pink ribbons to recognize and symbolize the passio
 n we have for our splendid career of saving lives everyday! WOW ... th
 is class will recognize you the passionate mammographer with topics ev
 eryone will enjoy. Join us for this day of education and lots of fun j
 ust for the passionate mammographer!\n\nFor more information visit htt
 ps://community.radrounds.com/events/mammography-pink-ribbons-and-passi
 on
DTSTART:20120811T120000Z
DTEND:20120811T201500Z
CATEGORIES:ce, course
LOCATION:Holiday Inn Airport Charlotte
WEBSITE:http://store.aheconline.com/DisplayDetail.aspx?pid=7134
URL:http://store.aheconline.com/DisplayDetail.aspx?pid=7134
CONTACT:800-239-1361
ORGANIZER:Advanced Health Education Center
ATTACH;FMTTYPE="image/jpeg":
ATTENDEE;ROLE=REQ-PARTICIPANT;PARTSTAT=ACCEPTED;RSVP=TRUE;CN="Larry Ca
 rney":https://community.radrounds.com/profile/LarryCarney
END:VEVENT
END:VCALENDAR
