BEGIN:VCALENDAR
PRODID:NingEventWidget-v1
VERSION:2.0
METHOD:PUBLISH
BEGIN:VEVENT
UID:1791588:Event:123239
DTSTAMP:20260422T063034Z
SUMMARY:Mammography: Our Specialty-Our Passion
DESCRIPTION:Mammography-Our Specialty-Our Passion-we must be passionat
 e about our profession to make a difference.  We wear our pink ribbon
 s to recognize and symbolize the passion we have for our splendid care
 er of saving lives everyday! WOW ... this class will recognize you the
  passionate mammographer with topics everyone will enjoy. Join us for 
 this day of education and lots of fun just for the passionate mammogra
 pher!\n\nFor more information visit https://community.radrounds.com/ev
 ents/mammography-our-specialty-our-passion
DTSTART:20120623T120000Z
DTEND:20120623T170000Z
CATEGORIES:ce, course
LOCATION:Nacogdoches Memorial Hospital
WEBSITE:http://store.aheconline.com/DisplayDetail.aspx?pid=7060
URL:http://store.aheconline.com/DisplayDetail.aspx?pid=7060
CONTACT:800-239-1361
ORGANIZER:Advanced Health Education Center
ATTACH;FMTTYPE="image/jpeg":
ATTENDEE;ROLE=REQ-PARTICIPANT;PARTSTAT=ACCEPTED;RSVP=TRUE;CN="Larry Ca
 rney":https://community.radrounds.com/profile/LarryCarney
END:VEVENT
END:VCALENDAR
