BEGIN:VCALENDAR
PRODID:NingEventWidget-v1
VERSION:2.0
METHOD:PUBLISH
BEGIN:VEVENT
UID:1791588:Event:115723
DTSTAMP:20260424T230659Z
SUMMARY:Mammography: New Horizons and Hope
DESCRIPTION:Mammography: New Horizons and Hope Saturday, February 04, 
 2012 - Saturday, February 04, 2012DoubleTree Hotel Austin UniversityAu
 stin, Texas (TX), United StatesProvided by Advanced Health Education C
 enter  CME Provider: Advanced Health Education Center 8502 Tybor Drive
 Houston, Texas (TX) 77074United States\nToll Free: (800) 239-1361Phone
 : (713) 772-0157Fax: (713) 772-0155\n\nConference Center:DoubleTree Ho
 tel Austin University1617 IH-35 NorthAustin, Texas (TX) 78702United St
 ates\nPhone: (512) 479-4000\n Description:You will love this 5-hour li
 ve program dedicated to the challenges and rewards of the mammographer
 ! This course was designed especially for you the dedicated busy mammo
 graphy technologist. The mixture of topics will keep you interested an
 d on your toes with interactive image critique and more. Don't' miss t
 his educational and fun day of mammography and door prizes. Seating is
  limited so don't wait to register.\nCourse Topics • Don’t You Hav
 e that Mammography Machine that Doesn’t Use Compression???• BRCA1 
 AND BRCA2: Cancer Risk and Genetic Testing• Mammography in the Middl
 e East• Image Critique-The Good, The Bad, The Ugly• New Horizon: B
 reast Tomosynthesis\nSelf Assessment Module (SAM): No\nInstructors:Sus
 an Sprinkle-Vincent, AAS, RT(R)(M)\nSpecialty Audience:Radiology\n\nFo
 r more information visit https://community.radrounds.com/events/mammog
 raphy-new-horizons-and-hope
DTSTART:20120204T050000Z
DTEND:20120205T045900Z
CATEGORIES:radiology
LOCATION:DoubleTree Hotel Austin University
WEBSITE:
URL:
CONTACT:(512) 479-4000
ORGANIZER:Advanced Health Education Center
ATTACH;FMTTYPE="image/jpeg":
ATTENDEE;ROLE=REQ-PARTICIPANT;PARTSTAT=ACCEPTED;RSVP=TRUE;CN="radRound
 s Radiology Events":https://community.radrounds.com/profile/radRoundsR
 adiologyEvents
END:VEVENT
END:VCALENDAR
