BEGIN:VCALENDAR
PRODID:NingEventWidget-v1
VERSION:2.0
METHOD:PUBLISH
BEGIN:VEVENT
UID:1791588:Event:123364
DTSTAMP:20260422T044550Z
SUMMARY:Mammography: New Horizons and Hope
DESCRIPTION:You will love this 5-hour live program dedicated to the ch
 allenges and rewards of the mammographer! This course was designed esp
 ecially for you the dedicated busy mammography technologist. The mixtu
 re of topics will keep you interested and on your toes with interactiv
 e image critique and more.  Don't' miss this educational and fun day 
 of mammography and door prizes. Seating is limited so don't wait to re
 gister.\n\nFor more information visit https://community.radrounds.com/
 events/mammography-new-horizons-and-hope-1
DTSTART:20120714T120000Z
DTEND:20120714T201500Z
CATEGORIES:ce, course
LOCATION:TBA
WEBSITE:http://store.aheconline.com/DisplayDetail.aspx?pid=7113
URL:http://store.aheconline.com/DisplayDetail.aspx?pid=7113
CONTACT:800-239-1361
ORGANIZER:Advanced Health Education Center
ATTACH;FMTTYPE="image/jpeg":
ATTENDEE;ROLE=REQ-PARTICIPANT;PARTSTAT=ACCEPTED;RSVP=TRUE;CN="Larry Ca
 rney":https://community.radrounds.com/profile/LarryCarney
END:VEVENT
END:VCALENDAR
