BEGIN:VCALENDAR
PRODID:NingEventWidget-v1
VERSION:2.0
METHOD:PUBLISH
BEGIN:VEVENT
UID:1791588:Event:116446
DTSTAMP:20260423T001312Z
SUMMARY:Mammography Miniconference
DESCRIPTION:Mammography Miniconference Saturday, May 12, 2012 - Saturd
 ay, May 12, 2012Advanced Health Education Center Houston, Texas (TX), 
 United StatesProvided by Advanced Health Education Center  CME Provide
 r: Advanced Health Education Center 8502 Tybor DriveHouston, Texas (TX
 ) 77074United States\nToll Free: (800) 239-1361Phone: (713) 772-0157Fa
 x: (713) 772-0155\n\nConference Center:Advanced Health Education Cente
 r 8502 Tybor DriveHouston, Texas (TX) 77074United States\nPhone: (800)
  239-1361\n Description:Yes it's time again for our 2012 Mammography M
 iniconference for $75.00 Again we will offer onother conference for yo
 ur mammography credits and it will be packed with interesting topics a
 nd lots of fun too!\nTopics TBD\nYou must register early to reserve yo
 ur seat for this symposium; it has sold out weeks in advance the past 
 three years! Join us for 5 hours of learning, snacks, fun and prizes! 
 Don't wait -- call now to register!\nSelf Assessment Module (SAM): No\
 nInstructors:Susan Sprinkle-Vincent, AAS, RT(R)(M)\nSpecialty Audience
 :Radiology\n\nFor more information visit https://community.radrounds.c
 om/events/mammography-miniconference
DTSTART:20120512T040000Z
DTEND:20120513T035900Z
CATEGORIES:radiology
LOCATION:Advanced Health Education Center
WEBSITE:http://aheconline.com/
URL:http://aheconline.com/
CONTACT:(800) 239-1361
ORGANIZER:Advanced Health Education Center
ATTACH;FMTTYPE="image/jpeg":
ATTENDEE;ROLE=REQ-PARTICIPANT;PARTSTAT=ACCEPTED;RSVP=TRUE;CN="radRound
 s Radiology Events":https://community.radrounds.com/profile/radRoundsR
 adiologyEvents
END:VEVENT
END:VCALENDAR
