BEGIN:VCALENDAR
PRODID:NingEventWidget-v1
VERSION:2.0
METHOD:PUBLISH
BEGIN:VEVENT
UID:1791588:Event:184975
DTSTAMP:20260421T223806Z
SUMMARY:Mammography Mastery (Live Event)
DESCRIPTION:Topics:\n\nMammography Positioning Refresher\nStereotactic
  Breast Biopsy\nMy Experience as an Expert MQSA Trainer\nWowing the Pa
 tient\n\n\nFor more information visit https://community.radrounds.com/
 events/mammography-mastery-live-event-1
DTSTART:20191012T120000Z
DTEND:20191012T163000Z
CATEGORIES:live, event
LOCATION:Arrington Comprehensive Breast Center
WEBSITE:http://store.aheconline.com
URL:http://store.aheconline.com
CONTACT:800-239-1361
ORGANIZER;CN="Larry Carney":https://community.radrounds.com/profile/La
 rryCarney
ATTACH;FMTTYPE="image/jpeg":
ATTENDEE;ROLE=REQ-PARTICIPANT;PARTSTAT=ACCEPTED;RSVP=TRUE;CN="Larry Ca
 rney":https://community.radrounds.com/profile/LarryCarney
END:VEVENT
END:VCALENDAR
