BEGIN:VCALENDAR
PRODID:NingEventWidget-v1
VERSION:2.0
METHOD:PUBLISH
BEGIN:VEVENT
UID:1791588:Event:172071
DTSTAMP:20260421T174554Z
SUMMARY:Mammography Initial Training Option 2 (Live Event)
DESCRIPTION:ARRT certification and/or a fully unrestricted state licen
 se are required for admission to the Mammography Initial Training co
 urse.\nThe curriculum for \"Mammography Initial Training Option 2\" w
 ill provide the technologist with all the required components of train
 ing as outlined by MQSA.  The course includes: 24 hours of training o
 n the core competencies as outlined by MQSA, 8 hours of Digital Mammog
 raphy Modality Specific Training, and 8 hours of Tomosynthesis Modalit
 y Specific Training.  \nYou will be awarded 40 hours of Category A cr
 edit for the five day course.  The course satisfies the 16 hours of s
 tructured education requirement to apply for the ARRT Post-Primary Mam
 mography Certification Examination.  This course also meets the guide
 lines for states requiring special education for mammography.\n\nFor m
 ore information visit https://community.radrounds.com/events/mammograp
 hy-initial-training-option-2-live-event
DTSTART:20170428T000000Z
DTEND:20170501T201500Z
CATEGORIES:live, event
LOCATION:Advanced Health Education Center
WEBSITE:https://store.aheconline.com/index.php?route=product/product&p
 ath=59&product_id=2661
URL:https://store.aheconline.com/index.php?route=product/product&path=
 59&product_id=2661
CONTACT:800-239-1361
ORGANIZER;CN="Larry Carney":https://community.radrounds.com/profile/La
 rryCarney
ATTACH;FMTTYPE="image/jpeg":
ATTENDEE;ROLE=REQ-PARTICIPANT;PARTSTAT=ACCEPTED;RSVP=TRUE;CN="Larry Ca
 rney":https://community.radrounds.com/profile/LarryCarney
END:VEVENT
END:VCALENDAR
