BEGIN:VCALENDAR
PRODID:NingEventWidget-v1
VERSION:2.0
METHOD:PUBLISH
BEGIN:VEVENT
UID:1791588:Event:177657
DTSTAMP:20260419T141557Z
SUMMARY:Mammography Initial Training Option 2 (Live Event)
DESCRIPTION:In April, 1999, the final rules of the Mammography Quality
  Standards Act (MQSA) became effective that required entry level train
 ing for mammography including the performance of 25 patient procedures
  under the supervision of a qualified mammographer.\nTraining Option 
 2 is for technologists who cannot perform their 25 patient procedur
 es at their facility.\nIf your facility is unable to supervise the req
 uired 25 procedures to complete your training, or you are not currentl
 y employed, AHEC's Mammography Initial Training Option 2 can facilit
 ate a clinical site in Houston, Texas. The two clinical days are sched
 uled after the classroom portion of the course is complete.   Ther
 e is no CE credit awarded for the two clinical days.\nEvery effort is 
 made to schedule the days convenient to you, but there are limited ope
 nings so they are scheduled on a first-come, first-serve basis.  Plea
 se contact us directly to set up the clinical days that work best for 
 you.\n\nFor more information visit https://community.radrounds.com/eve
 nts/mammography-initial-training-option-2-live-event-3
DTSTART:20181025T120000Z
DTEND:20181029T201500Z
CATEGORIES:live, event
LOCATION:Advanced Health Education Center
WEBSITE:http://aheconline.com/
URL:http://aheconline.com/
CONTACT:800-239-1361
ORGANIZER;CN="Larry Carney":https://community.radrounds.com/profile/La
 rryCarney
ATTACH;FMTTYPE="image/jpeg":
ATTENDEE;ROLE=REQ-PARTICIPANT;PARTSTAT=ACCEPTED;RSVP=TRUE;CN="Larry Ca
 rney":https://community.radrounds.com/profile/LarryCarney
END:VEVENT
END:VCALENDAR
