BEGIN:VCALENDAR
PRODID:NingEventWidget-v1
VERSION:2.0
METHOD:PUBLISH
BEGIN:VEVENT
UID:1791588:Event:163869
DTSTAMP:20260421T172220Z
SUMMARY:Mammography Initial Training Option 2
DESCRIPTION:The course includes: 24 hours of training on the core comp
 etencies as outlined by MQSA, 8 hours of Digital Mammography Modality 
 Specific Training, and 8 hours of Tomosynthesis Modality Specific Trai
 ning. You will also receive a CD with instructional materials of Film 
 Screen Training. For more specific topics, please view the course outl
 ine below. This practical approach to learning mammography is applicab
 le to all technologists performing mammography.\n\nFor more informatio
 n visit https://community.radrounds.com/events/mammography-initial-tra
 ining-option-2-5
DTSTART:20161020T120000Z
DTEND:20161026T200000Z
CATEGORIES:mammography, seminar
LOCATION:Advanced Health Education Center
WEBSITE:https://store.aheconline.com/index.php?route=product/product&p
 ath=59_78&product_id=2130
URL:https://store.aheconline.com/index.php?route=product/product&path=
 59_78&product_id=2130
CONTACT:1-800-239-1361
ORGANIZER;CN="Larry Carney":https://community.radrounds.com/profile/La
 rryCarney
ATTACH;FMTTYPE="image/jpeg":
ATTENDEE;ROLE=REQ-PARTICIPANT;PARTSTAT=ACCEPTED;RSVP=TRUE;CN="Larry Ca
 rney":https://community.radrounds.com/profile/LarryCarney
END:VEVENT
END:VCALENDAR
