BEGIN:VCALENDAR
PRODID:NingEventWidget-v1
VERSION:2.0
METHOD:PUBLISH
BEGIN:VEVENT
UID:1791588:Event:163801
DTSTAMP:20260422T213733Z
SUMMARY:Mammography Initial Training Option 2
DESCRIPTION:The course includes: 24 hours of training on the core comp
 etencies as outlined by MQSA and 8 hours of Digital Mammography Modali
 ty Specific Training. You will also receive a CD with instructional ma
 terials of Film Screen Training. For more specific topics, please view
  the course outline below.\n\nFor more information visit https://commu
 nity.radrounds.com/events/mammography-initial-training-option-2-2
DTSTART:20160128T130000Z
DTEND:20160131T211500Z
CATEGORIES:mammography, seminar
LOCATION:Advanced Health Education Center
WEBSITE:https://store.aheconline.com/index.php?route=product/product&p
 ath=59_78&product_id=2124
URL:https://store.aheconline.com/index.php?route=product/product&path=
 59_78&product_id=2124
CONTACT:
ORGANIZER;CN="Larry Carney":https://community.radrounds.com/profile/La
 rryCarney
ATTACH;FMTTYPE="image/jpeg":
ATTENDEE;ROLE=REQ-PARTICIPANT;PARTSTAT=ACCEPTED;RSVP=TRUE;CN="Larry Ca
 rney":https://community.radrounds.com/profile/LarryCarney
END:VEVENT
END:VCALENDAR
