BEGIN:VCALENDAR
PRODID:NingEventWidget-v1
VERSION:2.0
METHOD:PUBLISH
BEGIN:VEVENT
UID:1791588:Event:177610
DTSTAMP:20260421T043844Z
SUMMARY:Mammography Initial Training Option 1 (Live Event)
DESCRIPTION:In April, 1999, the final rules of the Mammography Quality
  Standards Act (MQSA) became effective that required entry level train
 ing for mammography including the performance of 25 patient procedures
  under the supervision of a qualified mammographer.\nTraining Option 1
  is for technologists who can perform their 25 patient procedures at t
 heir facility.\nFacilities may supervise the MQSA required 25 patient 
 procedures for their employees following the didactic program. The sup
 ervising clinical faculty must be a RT(R) (M) meeting MQSA requirement
 s. Supervising clinical faculty will be required to supervise, documen
 t, and return original clinical evaluation forms for students to compl
 ete the course and receive their Initial Training in Mammography certi
 ficate. The credentialing paperwork required for the Supervising Clini
 cal Faculty will be emailed after payment has been processed. All of t
 he credentialing paperwork for Option 1 must be provided at least two 
 weeks prior to the start date of the course.\nIf your facility is unab
 le to supervise the required 25 procedures to complete your training, 
 AHEC can facilitate a clinical site in Houston, Texas for an additiona
 l two days after the classroom portion of the course is complete. This
  option requires an additional course fee and paperwork. Please view t
 he \"Mammography Initial Training Option 2\" course description for de
 tails. *Clinical placement is limited and is on a first-come, first-se
 rve basis. Individuals must register, pay in full, and turn in all req
 uired paperwork to secure a clinical placement.\n\nFor more informatio
 n visit https://community.radrounds.com/events/mammography-initial-tra
 ining-option-1-live-event
DTSTART:20180125T130000Z
DTEND:20180129T211500Z
CATEGORIES:live, event
LOCATION:Advanced Health Education Center
WEBSITE:https://store.aheconline.com/index.php?route=product/product&a
 mp;path=59&amp;product_id=3428
URL:https://store.aheconline.com/index.php?route=product/product&amp;p
 ath=59&amp;product_id=3428
CONTACT:800-239-1361
ORGANIZER;CN="Larry Carney":https://community.radrounds.com/profile/La
 rryCarney
ATTACH;FMTTYPE="image/jpeg":
ATTENDEE;ROLE=REQ-PARTICIPANT;PARTSTAT=ACCEPTED;RSVP=TRUE;CN="Larry Ca
 rney":https://community.radrounds.com/profile/LarryCarney
END:VEVENT
END:VCALENDAR
