BEGIN:VCALENDAR
PRODID:NingEventWidget-v1
VERSION:2.0
METHOD:PUBLISH
BEGIN:VEVENT
UID:1791588:Event:168156
DTSTAMP:20260421T203918Z
SUMMARY:Mammography Initial Training Option 1
DESCRIPTION:Course Topics Day 1 (Thursday)\n\nIntroduction\nRadiation 
 Physics and Mammography\nRisk Factors\nSigns and Symptoms\nPatient Edu
 cation/Clinical History\nAnatomy and Physiology\nSkin Marking Systems 
 for Mammography\n\nDay 2 (Friday)\n\nMammography Positioning and Compr
 ession\nRoutine Views CC/MLO\nSupplemental Views\nMagnification\nTailo
 ring the Examination: Imaging The Augmented Breast\nImaging The Postop
 erative and Reconstructed Breast\nEquipment Applications\nTechnical Fa
 ctor Applications\n\nDay 3 (Saturday)\n\nSpecial Procedures\nNeedle Lo
 calization/Specimenradiography\nGlactography/Pneumocystogram\nIntroduc
 tion to Stereotactic Core Biopsy\nPathology\nReview\nHands-On Position
 ing Laboratory\nClinical Imaging Film Critique\n\nDay 4 (Sunday)\n\nDi
 gital Mammography Basics\nDigital Mammography Theory and Physics\nPosi
 tioning\nDigital Artifacts\nQuality Control - What Do These QC Numbers
  Mean?\nClinical Applications\nPathology of the Breast in the Digital 
 World\n\nDay 5 (Monday)\n\nTheory and Technology Part 1 - Introduction
  to DBT\nTheory and Technology Part 2 - The Need for 3D Breast Tomosyn
 thesis\nFDA Submitted Clinical Trial Information and Tomosynthesis Uni
 t Applications\nConnectivity Information\nSite Readiness and Reimburse
 ment\nRadiation Dose Considerations\nTechnologists Quality Control\nPa
 thology and Beyond\n\n\nFor more information visit https://community.r
 adrounds.com/events/mammography-initial-training-option-1-8
DTSTART:20161020T120000Z
DTEND:20161024T201500Z
CATEGORIES:live, event
LOCATION:Houston
WEBSITE:https://store.aheconline.com/index.php?route=product/product&p
 ath=59&product_id=2129
URL:https://store.aheconline.com/index.php?route=product/product&path=
 59&product_id=2129
CONTACT:18002391361
ORGANIZER;CN="Larry Carney":https://community.radrounds.com/profile/La
 rryCarney
ATTACH;FMTTYPE="image/jpeg":
ATTENDEE;ROLE=REQ-PARTICIPANT;PARTSTAT=ACCEPTED;RSVP=TRUE;CN="Larry Ca
 rney":https://community.radrounds.com/profile/LarryCarney
END:VEVENT
END:VCALENDAR
