BEGIN:VCALENDAR
PRODID:NingEventWidget-v1
VERSION:2.0
METHOD:PUBLISH
BEGIN:VEVENT
UID:1791588:Event:163820
DTSTAMP:20260420T100759Z
SUMMARY:Mammography Initial Training Option 1
DESCRIPTION:The curriculum for “Mammography Initial Training Option 
 1” will provide the technologist with all of the required components
  of training as outlined by MQSA. You will be awarded 32 hours of Cate
 gory A CE credit for the four day course including Digital Mammography
  Modality Specific Training. Additionally, technologists are strongly 
 encouraged to complete the 8 hour Digital Breast Tomosynthesis Modali
 ty Specific Training on the Monday following the training course, whic
 h will allow students to be able to perform tomosynthesis mammograms.\
 nARRT certification and/or a fully unrestricted state license are requ
 ired for admission to the training. This course meets the guidelines f
 or states requiring special education for mammography.\nThe course inc
 ludes: 24 hours of training on the core competencies as outlined by MQ
 SA and 8 hours of Digital Mammography Modality Specific Training.  Yo
 u will also receive a CD with instructional materials of Film Screen T
 raining. For more specific topics, please view the course outline belo
 w. This practical approach to learning mammography is applicable to al
 l technologists performing mammography.\n**If you are currently using 
 film screen at your facility you must add the eight hour “Film Scree
 n Modality Initial Training” home study course to your registration.
  The video home study covers all of the film screen modality requireme
 nts and should be completed prior to attending the course. Please note
 : the instructional CD given during the course does not meet the Film 
 Screen Modality Specific Training required by MQSA to perform film scr
 een mammograms.\nThe MQSA training requirements for 40 hours will be a
 ccomplished by completing the 32 hour training course (40 hours for th
 ose requiring film screen modality specific training) and documenting 
 performance of 25 hands-on supervised mammography procedures. AHEC off
 ers two options for completion of the clinical component of the traini
 ng.\n\nFor more information visit https://community.radrounds.com/even
 ts/mammography-initial-training-option-1-5
DTSTART:20160728T120000Z
DTEND:20160731T200000Z
CATEGORIES:mammography, seminar
LOCATION:Advanced Health Education Center
WEBSITE:https://store.aheconline.com/index.php?route=product/product&p
 ath=59_78&product_id=2127
URL:https://store.aheconline.com/index.php?route=product/product&path=
 59_78&product_id=2127
CONTACT:1-800-239-1361
ORGANIZER;CN="Larry Carney":https://community.radrounds.com/profile/La
 rryCarney
ATTACH;FMTTYPE="image/jpeg":
ATTENDEE;ROLE=REQ-PARTICIPANT;PARTSTAT=ACCEPTED;RSVP=TRUE;CN="Larry Ca
 rney":https://community.radrounds.com/profile/LarryCarney
ATTENDEE;ROLE=REQ-PARTICIPANT;PARTSTAT=TENTATIVE;RSVP=TRUE;CN="Edward 
 Kendall":https://community.radrounds.com/profile/EdwardKendall
END:VEVENT
END:VCALENDAR
