BEGIN:VCALENDAR
PRODID:NingEventWidget-v1
VERSION:2.0
METHOD:PUBLISH
BEGIN:VEVENT
UID:1791588:Event:158831
DTSTAMP:20260421T043813Z
SUMMARY:Mammography Initial Training Option 1
DESCRIPTION:The curriculum will provide the technologist with all of t
 he required components of training as outlined by MQSA and award 32 ho
 urs of Category A CE credit for the four day course. Additionally, tec
 hnologist may complete the eight hour Digital Breast Tomosynthesis on 
 the Monday following the training course. The course satisfies the eig
 ht hour MQSA modality training requirement for DBT.\nYou will cover ev
 ery aspect of a mammography procedure required to meet initial trainin
 g requirements as outlined by MQSA. The topics covered will include an
 atomy and physiology, hands-on positioning lab, film critique sessions
  and clinical participation, quality assurance, pathology, special pro
 cedures, imaging the augmented breast and eight hours of full field di
 gital mammography is a requirement for the new mammography technologis
 t whose primary imaging modality will be digital mammography.\n**If yo
 u are currently using film screen at your facility you must add the ei
 ght hour “Film Screen Modality Initial Training” video to your reg
 istration.  The mammography video covers all of the film screen modal
 ity requirements and should be viewed and post test completed prior to
  attending the course.\nThe MQSA training requirements for 40 hours wi
 ll be accomplished by completing the 32 hour training course (40 hours
  for those requiring film screen modality specific traning) and docume
 nting performance of 25 hands-on supervised mammography procedures. AH
 EC offers two options for completion of the clinical component of the 
 training.\n\nFor more information visit https://community.radrounds.co
 m/events/mammography-initial-training-option-1-2
DTSTART:20150115T050000Z
DTEND:20150119T045900Z
CATEGORIES:seminar
LOCATION:AHEC
WEBSITE:https://store.aheconline.com/index.php?route=product/product&f
 ilter_name=mammography%20initial%20training%20option%201&product_id=16
 22
URL:https://store.aheconline.com/index.php?route=product/product&filte
 r_name=mammography%20initial%20training%20option%201&product_id=1622
CONTACT:713-772-0157
ORGANIZER;CN="Larry Carney":https://community.radrounds.com/profile/La
 rryCarney
ATTACH;FMTTYPE="image/jpeg":
ATTENDEE;ROLE=REQ-PARTICIPANT;PARTSTAT=ACCEPTED;RSVP=TRUE;CN="Larry Ca
 rney":https://community.radrounds.com/profile/LarryCarney
END:VEVENT
END:VCALENDAR
