BEGIN:VCALENDAR
PRODID:NingEventWidget-v1
VERSION:2.0
METHOD:PUBLISH
BEGIN:VEVENT
UID:1791588:Event:123412
DTSTAMP:20260421T044007Z
SUMMARY:Mammography Fellowship Option 2
DESCRIPTION:Mammography Fellowship-Option 2 Initial MQSA Training Requ
 irement for Mammography If you are looking for a comprehensive course 
 on mammography skill training and enhancement, this is the course for 
 you! You will cover every aspect of a mammography procedure required t
 o meet initial training requirements as outlined by MQSA . The topics 
 cov-ered will include anatomy and physiology, hands-on positioning lab
 , film critique sessions and clinical participation. Quality control, 
 pathology, special procedures and imaging the augmented breast are a m
 ust for the new mammography technologist and will be covered in detail
  as highlights in this class. The instructional material provided is a
  great resource once you return to the workplace. Professional liabili
 ty insurance is provided for on-site clinical rotations in Option 2. C
 linical dress codes apply for the clinical rotations. ARRT certificati
 on and/or a fully unrestricted state license are required for admissio
 n to the training. Registration must be received at 3 weeks in advance
  for Option 2 to assure clinical rotation sites. This course has been 
 evaluated and meets the 40 contact hour initial training requirements 
 as mandated by the MQSA standards for the FDA. You will also receive 3
 2 hours Category A credit.   This course meets the guidelines for st
 ates requiring special education for mammography.\n\nFor more informat
 ion visit https://community.radrounds.com/events/mammography-fellowshi
 p-option-2-3
DTSTART:20120719T120000Z
DTEND:20120725T210000Z
CATEGORIES:ce, course
LOCATION:Advanced Health Education Center
WEBSITE:http://store.aheconline.com/DisplayDetail.aspx?pid=6977
URL:http://store.aheconline.com/DisplayDetail.aspx?pid=6977
CONTACT:800-239-1361
ORGANIZER:Advanced Health Education Center
ATTACH;FMTTYPE="image/jpeg":
ATTENDEE;ROLE=REQ-PARTICIPANT;PARTSTAT=ACCEPTED;RSVP=TRUE;CN="Larry Ca
 rney":https://community.radrounds.com/profile/LarryCarney
END:VEVENT
END:VCALENDAR
