BEGIN:VCALENDAR
PRODID:NingEventWidget-v1
VERSION:2.0
METHOD:PUBLISH
BEGIN:VEVENT
UID:1791588:Event:115858
DTSTAMP:20260424T043135Z
SUMMARY:Mammography Fellowship Option 2
DESCRIPTION:Mammography Fellowship Option 2 Saturday, March 03, 2012 -
  Thursday, March 08, 2012Advanced Health Education Center Houston, Tex
 as (TX), United StatesProvided by Advanced Health Education Center  CM
 E Provider: Advanced Health Education Center 8502 Tybor DriveHouston, 
 Texas (TX) 77074United States\nToll Free: (800) 239-1361Phone: (713) 7
 72-0157Fax: (713) 772-0155\nConference Center:Advanced Health Educatio
 n Center 8502 Tybor DriveHouston, Texas (TX) 77074United States\nPhone
 : (800) 239-1361 Description:Mammography Fellowship-Option 2Initial MQ
 SA Training Requirement for MammographyIf you are looking for a compre
 hensive course on mammography skill training and enhancement, this is 
 the course for you! You will cover every aspect of a mammography proce
 dure required to meet initial training requirements as outlined by MQS
 A . The topics cov-ered will include anatomy and physiology, hands-on 
 positioning lab, film critique sessions and clinical participation. Qu
 ality control, pathology, special procedures and imaging the augmented
  breast are a must for the new mammography technologist and will be co
 vered in detail as highlights in this class. The instructional materia
 l provided is a great resource once you return to the workplace.Profes
 sional liability insurance is provided for on-site clinical rotations 
 in Option 2. Clinical dress codes apply for the clinical rotations. AR
 RT certification and/or a fully unrestricted state license are require
 d for admission to the training. Registration must be received at 3 we
 eks in advance for Option 2 to assure clinical rotation sites. This co
 urse has been evaluated and meets the 40 contact hour initial training
  requirements as mandated by the MQSA standards for the FDA. You will 
 also receive 32 hours Category A credit. This course meets the guideli
 nes for states requiring special education for mammography.\nMinimum C
 linical requirements Include:â€¢ A copy of current credentials and sta
 te licensure (If applicable).â€¢ Signed Letter of Good Health on physi
 cian's letterhead.â€¢ Current Immunizations to include: Tuberculosis (
 documentation of negative PPD or negative CXR report within the last 1
 2 months, Hepatitis B series (documentation of completed series and/or
  positive titer, or deferral), Tetanus within the last 10 years, Varic
 ella (chicken pox)-(immunization, positive history by MD letter, posit
 ive titer), MMR date or titer date, current influenza vaccination.â€¢ 
 Urine drug screenâ€¢ Copy of Current CPR card (front and back)â€¢ A si
 gned background release form with a copy of current driverâ€™s license
  to include expiration date, social security number and date of birth.
  The release form will be emailed to you when you register for class.â
 €¢ Employment verificationsâ€¢ Last two employerso Name of employero C
 ontact nameo Contact phone number\nâ€¢ When you register you will be s
 ent via email information regarding the required documents to complete
  enrollment and clinical rotation placement\nThis information must be 
 provided 3 weeks prior to the first day of class.**Participants in thi
 s class who will be performing clinical examinations in a digital mamm
 ography department or wish to meet initial requirements in film-screen
  and digital mammography must register for the Monday course following
  the fellowship.\nSelf Assessment Module (SAM): No\nInstructors:Susan 
 Sprinkle-Vincent, AAS, RT(R)(M)\nSpecialty Audience:Radiology\n\nFor m
 ore information visit https://community.radrounds.com/events/mammograp
 hy-fellowship-option-2-1
DTSTART:20120303T050000Z
DTEND:20120309T045900Z
CATEGORIES:radiology
LOCATION:Advanced Health Education Center
WEBSITE:http://aheconline.com/
URL:http://aheconline.com/
CONTACT:(800) 239-1361
ORGANIZER:Advanced Health Education Center
ATTACH;FMTTYPE="image/jpeg":
ATTENDEE;ROLE=REQ-PARTICIPANT;PARTSTAT=ACCEPTED;RSVP=TRUE;CN="radRound
 s Radiology Events":https://community.radrounds.com/profile/radRoundsR
 adiologyEvents
END:VEVENT
END:VCALENDAR
